BEGIN:VCALENDAR
VERSION:2.0
PRODID:-//wp-events-plugin.com//7.2.3.1//EN
TZID:America/New_York
X-WR-TIMEZONE:America/New_York
BEGIN:VEVENT
UID:563@breathemiami.us
DTSTART;TZID=America/New_York:20240727T190000
DTEND;TZID=America/New_York:20240727T210000
DTSTAMP:20240722T183750Z
URL:https://breathemiami.us/events/the-art-of-being-human/
SUMMARY:The Art of Being Human
DESCRIPTION:Imagine if a classical violin concert and a transformative soun
 d healing session melded into a singular\, profound experience—welcome t
 o "The Art of Being Human" by the renowned Ari Urban. This event transcend
 s traditional boundaries\, weaving together guided meditation\, therapeuti
 c sound bowls\, and soul-stirring violin compositions to guide participant
 s on an introspective journey of profound inner discovery.\n\nAri Urban\, 
 celebrated for his intuitive musical prowess\, improvises melodies that re
 sonate with the collective energy of the group\, creating a serene atmosph
 ere that nurtures peace and reconnects participants with their innermost s
 elves. Each note played is a deliberate expression aimed at harmonizing th
 e body\, quieting the mind\, and fostering a deep sense of spiritual renew
 al.\n\nWhat to Expect:\n\n 	Guided Meditation: Begin your journey with gui
 ded meditation techniques designed to calm the mind and center your focus 
 inward.\n 	Sound Bowl Harmonies: Experience the therapeutic vibrations of 
 sound bowls\, which harmonize the body’s energy centers (chakras) and pr
 omote a sense of balance and well-being.\n 	Intuitive Violin Improvisation
 : Ari Urban’s intuitive violin compositions respond to the energy of the
  group\, guiding listeners through an emotive journey of introspection and
  remembrance.\n 	Soulful Journey: Allow yourself to be transported as the 
 music resonates deeply within\, awakening dormant emotions and facilitatin
 g profound moments of personal insight and healing.\n\nWhy Attend: "The Ar
 t of Being Human" offers a unique opportunity to experience the transforma
 tive power of music and meditation combined. Ari Urban’s mastery of viol
 in and intuitive musical expression creates an atmosphere where participan
 ts can reconnect with their inner selves\, find peace\, and rediscover the
 ir heart’s truest desires.\n\nJoin Ari Urban for an unforgettable evenin
 g of musical meditation and soulful exploration at "The Art of Being Human
 ". Immerse yourself in a harmonious blend of sound healing and intuitive v
 iolin melodies that promise to elevate your spirit and enrich your journey
  toward self-discovery and inner peace.\n\nGET TICKETS\n
ATTACH;FMTTYPE=image/jpeg:https://breathemiami.us/wp-content/uploads/2024/
 06/The-Art-of-Being-Human.jpg
CATEGORIES:Mindfulness Events
LOCATION:The Sacred Space Miami\, 105 Northeast 24th Street\, Miami\, Flori
 da\, 33137\, United States
X-APPLE-STRUCTURED-LOCATION;VALUE=URI;X-ADDRESS=105 Northeast 24th Street\,
  Miami\, Florida\, 33137\, United States;X-APPLE-RADIUS=100;X-TITLE=The Sa
 cred Space Miami:geo:0,0
END:VEVENT
BEGIN:VTIMEZONE
TZID:America/New_York
X-LIC-LOCATION:America/New_York
BEGIN:DAYLIGHT
DTSTART:20240310T030000
TZOFFSETFROM:-0500
TZOFFSETTO:-0400
TZNAME:EDT
END:DAYLIGHT
END:VTIMEZONE
END:VCALENDAR