BEGIN:VCALENDAR
VERSION:2.0
PRODID:-//wp-events-plugin.com//7.2.3.1//EN
TZID:America/New_York
X-WR-TIMEZONE:America/New_York
BEGIN:VEVENT
UID:970@breathemiami.us
DTSTART;TZID=America/New_York:20241022T190000
DTEND;TZID=America/New_York:20241022T210000
DTSTAMP:20241003T024350Z
URL:https://breathemiami.us/events/the-art-of-being-human-2/
SUMMARY:The Art of Being Human
DESCRIPTION:The Art of Being Human is a unique event that merges the enchan
 ting sounds of classical violin with the healing power of sound therapy. T
 his immersive experience combines guided meditation to quiet the mind\, so
 othing sound bowls to harmonize the body\, and channeled violin music to f
 acilitate a profound inner journey of self-discovery and remembrance. Ari 
 Urban\, the talented musician leading the session\, will intuitively impro
 vise music that resonates with the group's unique energy\, fostering a sen
 se of peace and connection to the heart.\nAbout the Artist\nAri Urban is a
  passionate\, heart-centered musician and experienced meditator. As an awa
 rd-winning classically trained violinist and independent recording artist\
 , she is also a proud member of Miami’s Nu Deco Ensemble. Ari has collab
 orated with renowned musicians across genres\, contributing to multiple Gr
 ammy-winning and Grammy-nominated albums. Her impressive performance histo
 ry includes collaborations with world-class artists like Yo-Yo Ma\, Andrea
  Bocelli\, and Gloria Estefan\, among many others. Merging her dedication 
 to spiritual growth with her musical talents\, Ari creates a path for self
 -exploration through her emotionally resonant music. She holds two Grammy 
 Certificates and is an active member of the Recording Academy.\nEvent Deta
 ils\n\n 	Location: Sacred Space\, 105 NE 24th Street\, Miami\, FL\, 33137\
 n 	Parking: Paid street parking is available on 24th and 25th Streets.\n 	
 What to Bring: Attendees are encouraged to bring a yoga mat\, comfortable 
 clothing\, a refillable water bottle\, a blanket (optional but recommended
 )\, a journal\, a pen\, and an open heart.\n 	Tickets: Registration is ava
 ilable for Early Bird or General Admission.\n\nAbout Modern ŌM\nSince 201
 5\, Modern ŌM has been dedicated to connecting the community with premier
  spiritual wellness programs. Offering over 20 events monthly in Miami\, i
 ncluding retreats and trainings\, they provide a supportive environment fo
 r entrepreneurs\, professionals\, and creatives committed to prioritizing 
 their spiritual well-being. Modern ŌM is your go-to resource for spiritua
 l wellness\, helping you shed emotional baggage and embrace personal growt
 h.\nCommunity Feedback\nParticipants rave about their experiences with Mod
 ern ŌM\, sharing sentiments like\, "I love the community\, I love the vib
 e!" - Seema\, and "You can really tell Modern ŌM truly cares about its co
 mmunity and the conscious evolution of its members!" - Alessandra.\n\nJoin
  The Art of Being Human to immerse yourself in a transformative journey of
  sound and meditation\, led by the inspiring Ari Urban.\n\nGET TICKETS\n
ATTACH;FMTTYPE=image/jpeg:https://breathemiami.us/wp-content/uploads/2024/
 10/The-Art-of-Being-Human.jpg
CATEGORIES:Mindfulness Events
LOCATION:The Sacred Space Miami\, 105 Northeast 24th Street\, Miami\, Flori
 da\, 33137\, United States
X-APPLE-STRUCTURED-LOCATION;VALUE=URI;X-ADDRESS=105 Northeast 24th Street\,
  Miami\, Florida\, 33137\, United States;X-APPLE-RADIUS=100;X-TITLE=The Sa
 cred Space Miami:geo:0,0
END:VEVENT
BEGIN:VTIMEZONE
TZID:America/New_York
X-LIC-LOCATION:America/New_York
BEGIN:DAYLIGHT
DTSTART:20240310T030000
TZOFFSETFROM:-0500
TZOFFSETTO:-0400
TZNAME:EDT
END:DAYLIGHT
END:VTIMEZONE
END:VCALENDAR