BEGIN:VCALENDAR
VERSION:2.0
PRODID:-//wp-events-plugin.com//7.2.3.1//EN
TZID:America/New_York
X-WR-TIMEZONE:America/New_York
BEGIN:VEVENT
UID:475@breathemiami.us
DTSTART;TZID=America/New_York:20240511T100000
DTEND;TZID=America/New_York:20240511T160000
DTSTAMP:20240504T183355Z
URL:https://breathemiami.us/events/the-anomaly-inc-2024-youth-mental-healt
 h/
SUMMARY:The Anomaly Inc 2024 Youth Mental Health CAMP
DESCRIPTION:\nThe Anomaly Inc Presents: Level Up Your Mental Health at Yout
 h Camp 2024!\nCalling all young minds! The Anomaly Inc is excited to host 
 the 2024 Youth Mental Health Camp at Melanin Edge Studios. This fun and in
 formative event is all about empowering you to take charge of your mental 
 well-being and connect with a supportive community.\nMore Than Just a Camp
  - A Growth Journey:\n\n\n 	Learn\, Grow\, and Connect: This camp goes bey
 ond traditional summer fun. Expect a dynamic schedule filled with workshop
 s\, engaging activities\, and opportunities to connect with peers who shar
 e your passion for mental wellness.\n 	Boost Your Mental Health Game: The 
 camp is designed to equip you with practical tools and strategies to navig
 ate the challenges of everyday life. Learn how to manage stress\, build re
 silience\, and cultivate a positive outlook.\n 	Engaging Atmosphere: Get r
 eady to participate in interactive workshops\, share your experiences in s
 upportive group settings\, and have a blast with like-minded individuals.\
 n\nJoin the Movement:\n\n\n 	Make 2024 the Year of Mental Wellness: The An
 omaly Inc believes that prioritizing mental health is crucial. This camp o
 ffers a platform to learn\, grow\, and become an advocate for your own wel
 l-being and that of others.\n 	Limited Edition T-Shirt: The first 10 regis
 tered participants will receive a free camp T-Shirt\, a badge of honor for
  your commitment to mental well-being!\n\nMore Than Just an Event - A Comm
 unity:\nThe Anomaly Inc Youth Mental Health Camp is more than just a one-t
 ime event. It's an opportunity to build connections with peers who underst
 and the importance of mental health. You'll leave feeling empowered\, equi
 pped\, and part of a supportive community.\nDon't miss out on this excitin
 g opportunity! Register today and join The Anomaly Inc on this journey tow
 ards mental well-being. Together\, let's make 2024 the year we prioritize 
 our mental health!\n\n\n\nBUY TICKETS\n
ATTACH;FMTTYPE=image/jpeg:https://breathemiami.us/wp-content/uploads/2024/
 05/https___cdn.evbuc_.com_images_715657629_1471582238383_1_original.jpeg
CATEGORIES:Wellness Events
LOCATION:Melanin Edge Studios\, 7101 W Commercial Blvd Suite 4a\, Tamarac\,
  Florida\, 33351\, United States
X-APPLE-STRUCTURED-LOCATION;VALUE=URI;X-ADDRESS=7101 W Commercial Blvd Suit
 e 4a\, Tamarac\, Florida\, 33351\, United States;X-APPLE-RADIUS=100;X-TITL
 E=Melanin Edge Studios:geo:0,0
END:VEVENT
BEGIN:VTIMEZONE
TZID:America/New_York
X-LIC-LOCATION:America/New_York
BEGIN:DAYLIGHT
DTSTART:20240310T030000
TZOFFSETFROM:-0500
TZOFFSETTO:-0400
TZNAME:EDT
END:DAYLIGHT
END:VTIMEZONE
END:VCALENDAR