BEGIN:VCALENDAR
VERSION:2.0
PRODID:-//wp-events-plugin.com//7.2.3.1//EN
TZID:America/New_York
X-WR-TIMEZONE:America/New_York
BEGIN:VEVENT
UID:1138@breathemiami.us
DTSTART;TZID=America/New_York:20241028T100000
DTEND;TZID=America/New_York:20241028T110000
DTSTAMP:20241023T075126Z
URL:https://breathemiami.us/events/thanksgiving-beachside-meditation/
SUMMARY:Thanksgiving Beachside Meditation
DESCRIPTION:On Thanksgiving morning\, individuals are invited to participat
 e in a rejuvenating and mindful experience led by Sabrina of Kanekshun. Th
 is unique event is thoughtfully designed to help participants cultivate a 
 profound sense of gratitude in their lives\, setting a positive tone for t
 he holiday ahead.\n\nAttendees will gather by the serene beach\, where the
  soothing sounds of the ocean create the perfect backdrop for a tranquil m
 editation session. Sabrina will guide participants through a series of min
 dful practices\, encouraging them to connect deeply with their inner selve
 s and foster an appreciation for the beauty surrounding them. The session 
 will also incorporate elements of sound healing\, enhancing the experience
  and promoting relaxation.\n\nAs the waves gently lap the shore\, this med
 itation offers a rare opportunity to pause\, reflect\, and celebrate the a
 bundance in one’s life. Participants will be invited to embrace the rich
 ness of their experiences\, allowing gratitude to fill their hearts as the
 y prepare to enjoy the festivities of the day.\n\nThis Thanksgiving Beachs
 ide Meditation aims to provide a peaceful space for individuals to unwind 
 and connect with themselves\, making it an ideal way to start the holiday 
 with intention and mindfulness. Whether attending solo or with loved ones\
 , participants will leave feeling centered\, refreshed\, and ready to embr
 ace the spirit of Thanksgiving.\n\nGET TICKETS\n
ATTACH;FMTTYPE=image/jpeg:https://breathemiami.us/wp-content/uploads/2024/
 10/Thanksgiving-Beachside-Meditation.jpg
CATEGORIES:Things To Do
LOCATION:1 Hotel South Beach\, 2341 Collins Avenue Miami Beach\, Miami\, Fl
 orida\, 33139\,  FL \, United States
X-APPLE-STRUCTURED-LOCATION;VALUE=URI;X-ADDRESS=2341 Collins Avenue Miami B
 each\, Miami\, Florida\, 33139\,  FL \, United States;X-APPLE-RADIUS=100;X
 -TITLE=1 Hotel South Beach:geo:0,0
END:VEVENT
BEGIN:VTIMEZONE
TZID:America/New_York
X-LIC-LOCATION:America/New_York
BEGIN:DAYLIGHT
DTSTART:20240310T030000
TZOFFSETFROM:-0500
TZOFFSETTO:-0400
TZNAME:EDT
END:DAYLIGHT
END:VTIMEZONE
END:VCALENDAR