BEGIN:VCALENDAR
VERSION:2.0
PRODID:-//wp-events-plugin.com//7.2.3.1//EN
TZID:America/New_York
X-WR-TIMEZONE:America/New_York
BEGIN:VEVENT
UID:1302@breathemiami.us
DTSTART;TZID=America/New_York:20250307T170000
DTEND;TZID=America/New_York:20250309T160000
DTSTAMP:20250301T044621Z
URL:https://breathemiami.us/events/tfcon-los-angeles-2025/
SUMMARY:TFcon Los Angeles 2025
DESCRIPTION:TFcon Los Angeles 2025 is an exciting event featuring fan-favor
 ite guests\, with appearances subject to changes based on professional com
 mitments. Some guests may charge additional fees for autographs and photos
 . Please note that all sales are final\, and no exchanges or refunds will 
 be provided for any reason.\n\nGET TICKETS\n
ATTACH;FMTTYPE=image/jpeg:https://breathemiami.us/wp-content/uploads/2025/
 02/TFcon-Los-Angeles-2025.avif
CATEGORIES:Wellness Events
LOCATION:Los Angeles Marriott Burbank\, 400 Bob Hope Drive Burbank\, Los An
 geles\, California\, 91505\, CA\, United States
X-APPLE-STRUCTURED-LOCATION;VALUE=URI;X-ADDRESS=400 Bob Hope Drive Burbank\
 , Los Angeles\, California\, 91505\, CA\, United States;X-APPLE-RADIUS=100
 ;X-TITLE=Los Angeles Marriott Burbank:geo:0,0
END:VEVENT
BEGIN:VTIMEZONE
TZID:America/New_York
X-LIC-LOCATION:America/New_York
BEGIN:STANDARD
DTSTART:20241103T010000
TZOFFSETFROM:-0400
TZOFFSETTO:-0500
TZNAME:EST
END:STANDARD
BEGIN:DAYLIGHT
DTSTART:20250309T030000
TZOFFSETFROM:-0500
TZOFFSETTO:-0400
TZNAME:EDT
END:DAYLIGHT
END:VTIMEZONE
END:VCALENDAR