BEGIN:VCALENDAR
VERSION:2.0
PRODID:-//wp-events-plugin.com//7.2.3.1//EN
TZID:America/New_York
X-WR-TIMEZONE:America/New_York
BEGIN:VEVENT
UID:250@breathemiami.us
DTSTART;TZID=America/New_York:20240829T000000
DTEND;TZID=America/New_York:20240831T000000
DTSTAMP:20241216T181943Z
URL:https://breathemiami.us/events/test-event/
SUMMARY:Test Event
DESCRIPTION:EVENT USED FOR TESTING PURPOSES ONLY
END:VEVENT
BEGIN:VTIMEZONE
TZID:America/New_York
X-LIC-LOCATION:America/New_York
BEGIN:DAYLIGHT
DTSTART:20240310T030000
TZOFFSETFROM:-0500
TZOFFSETTO:-0400
TZNAME:EDT
END:DAYLIGHT
END:VTIMEZONE
END:VCALENDAR