BEGIN:VCALENDAR
VERSION:2.0
PRODID:-//wp-events-plugin.com//7.2.3.1//EN
TZID:America/New_York
X-WR-TIMEZONE:America/New_York
BEGIN:VEVENT
UID:992@breathemiami.us
DTSTART;TZID=America/New_York:20241028T190000
DTEND;TZID=America/New_York:20241028T210000
DTSTAMP:20241003T150810Z
URL:https://breathemiami.us/events/tending-to-the-inner-garden-a-healing-j
 ourney-with-vie/
SUMMARY:Tending to the Inner Garden - A Healing Journey with Vie
DESCRIPTION:Tending to the Inner Garden: A Healing Journey with Vie is a we
 ekly healing circle designed to nurture the soul and cultivate inner peace
 . Held in a sacred space\, this circle provides a supportive environment w
 here participants can tend to their hearts and minds through guided medita
 tions\, reflective discussions\, and spiritual practices. Whether you seek
  healing\, inner renewal\, or simply the companionship of like-minded soul
 s\, this journey offers a chance for growth and connection. No prior exper
 ience is required—just an open heart and the willingness to tend to your
  inner garden.\n\nThe metaphor of “Tending to the Inner Garden” reflec
 ts the importance of caring for your emotional\, mental\, and spiritual we
 ll-being. Just as a garden requires nurturing\, attention\, and patience\,
  so does the inner self. This practice helps participants reconnect with t
 heir true essence\, creating space for healing\, personal growth\, and tra
 nsformation.\n\nKey Aspects of Tending to the Inner Garden:\n\n 	Self-Awar
 eness: Engage in self-reflection to gain a deeper understanding of your th
 oughts\, emotions\, and beliefs. This leads to greater self-awareness and 
 insight.\n 	Emotional Regulation: Learn to process and manage emotions eff
 ectively\, cultivating emotional resilience through mindfulness and reflec
 tion.\n 	Healing and Growth: Create space for healing from past wounds and
  traumas. This journey fosters personal growth\, inner strength\, and tran
 sformation.\n 	Mindfulness and Presence: Develop mindfulness and a stronge
 r connection with yourself and the world around you. This leads to inner p
 eace and contentment.\n 	Self-Care and Well-Being: Prioritize your mental\
 , emotional\, and spiritual well-being by engaging in activities that nour
 ish your inner self\, such as meditation\, journaling\, and connecting wit
 h nature.\n 	Building Healthy Relationships: Cultivate compassion\, empath
 y\, and authenticity. As you nurture your inner garden\, your relationship
 s will deepen\, and interactions will become healthier.\n\nThe practice of
  tending to your inner garden is a holistic approach to self-care that nur
 tures every aspect of your being\, leading to a more fulfilling and balanc
 ed life. Participants will leave each session feeling more connected\, gro
 unded\, and empowered.\n\nJoin us every Monday from 7 PM to 9 PM at Self P
 lace\, a space dedicated to meditation\, yoga\, and holistic wellness. Thi
 s is an opportunity to prioritize your health and well-being in a supporti
 ve and loving community.\n\nAbout the Speaker:\nValencie "Vie" Exceus\, a 
 licensed acupuncture physician with over 17 years of experience in Traditi
 onal Chinese Medicine (TCM)\, leads the healing circle. Vie has worked ext
 ensively with patients suffering from chronic illnesses like diabetes and 
 hypertension\, and her deep understanding of the connection between trauma
  and illness has shaped her unique approach to healing. Having completed e
 xtensive studies in trauma healing through the Inner Science organization\
 , Vie is a trauma-informed acupuncturist and a certified self-compassion f
 acilitator. She holds space for individuals dealing with complex health is
 sues and trauma\, offering not only acupuncture but also embodied compassi
 on sessions to address emotional and spiritual wounds.\n\nAt Self Place\, 
 located at 9010 W Commercial Blvd.\, Sunrise\, FL\, you are welcomed to ex
 perience healing\, authenticity\, and unconditional love. You are invited 
 to drop all expectations\, just be yourself\, and allow the journey of sel
 f-care to unfold.\n\nFor inquiries\, reach out to iamthat@theselfplace.com
 .\n\nGET TICKETS\n
ATTACH;FMTTYPE=image/jpeg:https://breathemiami.us/wp-content/uploads/2024/
 10/Tending-to-the-Inner-Garden-A-Healing-Journey-with-Vie.jpg
CATEGORIES:Wellness Events
LOCATION:Self Place\, 9010 West Commercial Boulevard \, Sunrise\, Florida\,
  33351\, FL\, United States
X-APPLE-STRUCTURED-LOCATION;VALUE=URI;X-ADDRESS=9010 West Commercial Boulev
 ard \, Sunrise\, Florida\, 33351\, FL\, United States;X-APPLE-RADIUS=100;X
 -TITLE=Self Place:geo:0,0
END:VEVENT
BEGIN:VTIMEZONE
TZID:America/New_York
X-LIC-LOCATION:America/New_York
BEGIN:DAYLIGHT
DTSTART:20240310T030000
TZOFFSETFROM:-0500
TZOFFSETTO:-0400
TZNAME:EDT
END:DAYLIGHT
END:VTIMEZONE
END:VCALENDAR