BEGIN:VCALENDAR
VERSION:2.0
PRODID:-//wp-events-plugin.com//7.2.3.1//EN
TZID:America/New_York
X-WR-TIMEZONE:America/New_York
BEGIN:VEVENT
UID:804@breathemiami.us
DTSTART;TZID=America/New_York:20240924T100000
DTEND;TZID=America/New_York:20240924T110000
DTSTAMP:20240906T185136Z
URL:https://breathemiami.us/events/tea-ceremony-with-tara-benmeleh/
SUMMARY:Tea Ceremony with Tara Benmeleh
DESCRIPTION:Experience the profound and transformative power of the tea cer
 emony with Tara Benmeleh\, a revered guide in this ancient practice. Known
  in Chinese as "cha do" or "The Way of Tea\," the tea ceremony is a rich b
 lend of artistry\, spirituality\, and personal connection that offers a un
 ique pathway to a deeper understanding of both oneself and the universe.\n
 \nWhile tea is not classified as a psychedelic\, it is celebrated for its 
 medicinal and psychoactive qualities\, which make it an exceptional tool f
 or fostering mindfulness and personal growth. Tara Benmeleh’s tea ceremo
 nies elevate this practice into a powerful exploration of self and collect
 ive consciousness.\n\nTara’s approach to the tea ceremony is distinguish
 ed by its dynamic and evolving nature. Her practice\, known as "espiritút
 ara\," is both experimental and intuitive\, reflecting the fluidity of per
 sonal and spiritual development. Through her ceremonies\, tea becomes more
  than a beverage—it becomes a medium for profound connection and transfo
 rmation.\n\nIn Tara’s sacred space\, participants are invited to engage 
 deeply with themselves\, with each other\, and with the world around them.
  Her ceremonies create an atmosphere of peace and harmony\, offering momen
 ts of stillness and beauty that foster a sense of unity and inner calm.\n\
 nWhat to Expect:\n\n 	Sacred Space: Tara crafts an environment that encour
 ages deep self-reflection and meaningful connections with fellow participa
 nts.\n 	Mindfulness and Artistry: The ceremony blends mindfulness with art
 istic expression\, allowing individuals to explore the nuances of presence
  and awareness.\n 	Transformative Experience: Participants will experience
  a journey of inner and outer communion\, guided by Tara’s intuitive and
  evolving approach to tea ceremony.\n 	Personal Growth: Through this share
 d ritual\, attendees will gain insights into their own paths and connect w
 ith the transformative potential of tea.\n\nJoin Tara Benmeleh for an ench
 anting tea ceremony that promises to be a gateway to deeper self-discovery
 \, spiritual connection\, and moments of serene beauty.\n\nGET TICKETS\n
ATTACH;FMTTYPE=image/jpeg:https://breathemiami.us/wp-content/uploads/2024/
 09/Tea-Ceremony-with-Tara-Benmeleh.jpg
CATEGORIES:Mindfulness Events,Things To Do,Wellness Events
LOCATION:Miami Beach Botanical Garden\, 2000 Convention Center Drive Miami 
 Beach\, Miami\, Florida\, 33139\, FL\, United States
X-APPLE-STRUCTURED-LOCATION;VALUE=URI;X-ADDRESS=2000 Convention Center Driv
 e Miami Beach\, Miami\, Florida\, 33139\, FL\, United States;X-APPLE-RADIU
 S=100;X-TITLE=Miami Beach Botanical Garden:geo:0,0
END:VEVENT
BEGIN:VTIMEZONE
TZID:America/New_York
X-LIC-LOCATION:America/New_York
BEGIN:DAYLIGHT
DTSTART:20240310T030000
TZOFFSETFROM:-0500
TZOFFSETTO:-0400
TZNAME:EDT
END:DAYLIGHT
END:VTIMEZONE
END:VCALENDAR