BEGIN:VCALENDAR
VERSION:2.0
PRODID:-//wp-events-plugin.com//7.2.3.1//EN
TZID:America/New_York
X-WR-TIMEZONE:America/New_York
BEGIN:VEVENT
UID:959@breathemiami.us
DTSTART;TZID=America/New_York:20241026T100000
DTEND;TZID=America/New_York:20241026T110000
DTSTAMP:20241002T173428Z
URL:https://breathemiami.us/events/tea-ceremony-for-children-ages-8-with-t
 ara-benmeleh/
SUMMARY:Tea Ceremony for Children (Ages 8+) with Tara Benmeleh
DESCRIPTION:The Miami Beach Botanical Garden invites children aged 8 and ol
 der to participate in a unique tea ceremony led by Tara Benmeleh. This eng
 aging and serene experience is designed to introduce young participants to
  the calming and mindful practice of tea drinking\, fostering a deep conne
 ction with nature\, themselves\, and one another. The ceremony serves as a
  gentle introduction to the ancient art of tea\, promoting feelings of pea
 ce\, presence\, and gratitude.\n\nThroughout the ceremony\, Tara guides ch
 ildren step by step\, creating an atmosphere of curiosity and mindfulness.
  This special event provides a safe space for children to embrace the beau
 ty of slowing down and enjoying moments of stillness together. The tea\, s
 elected for its soothing properties\, acts as a conduit for relaxation and
  personal reflection\, offering a tranquil retreat within the garden’s n
 atural beauty.\n\nIt is important to note that the tea does contain caffei
 ne\; however\, participants can opt for water if they prefer to avoid caff
 eine while still enjoying the full experience.\n\nTara Benmeleh is a dedic
 ated tea ceremonialist with a passion for sharing the transformative power
  of tea with both adults and children. Her ceremonies emphasize intuition 
 and connection\, inviting participants to immerse themselves in moments of
  tranquility and deep personal engagement. Through her work\, Tara cultiva
 tes sacred spaces that celebrate the beauty of nature and the significance
  of shared experiences.\n\nGET TICKETS\n
ATTACH;FMTTYPE=image/jpeg:https://breathemiami.us/wp-content/uploads/2024/
 10/Tea-Ceremony-for-Children-Ages-8-with-Tara-Benmeleh.jpg
CATEGORIES:Wellness Events
LOCATION:Miami Beach Botanical Garden\, 2000 Convention Center Dr\, Miami B
 each\, Florida\, 33139\, FL\, United States
X-APPLE-STRUCTURED-LOCATION;VALUE=URI;X-ADDRESS=2000 Convention Center Dr\,
  Miami Beach\, Florida\, 33139\, FL\, United States;X-APPLE-RADIUS=100;X-T
 ITLE=Miami Beach Botanical Garden:geo:0,0
END:VEVENT
BEGIN:VTIMEZONE
TZID:America/New_York
X-LIC-LOCATION:America/New_York
BEGIN:DAYLIGHT
DTSTART:20240310T030000
TZOFFSETFROM:-0500
TZOFFSETTO:-0400
TZNAME:EDT
END:DAYLIGHT
END:VTIMEZONE
END:VCALENDAR