BEGIN:VCALENDAR
VERSION:2.0
PRODID:-//wp-events-plugin.com//7.2.3.1//EN
TZID:America/New_York
X-WR-TIMEZONE:America/New_York
BEGIN:VEVENT
UID:1244@breathemiami.us
DTSTART;TZID=America/New_York:20250221T100000
DTEND;TZID=America/New_York:20250221T110000
DTSTAMP:20250211T170940Z
URL:https://breathemiami.us/events/te-invito-a-meditar/
SUMMARY:Te invito a meditar!
DESCRIPTION:David invites individuals to step into a space of calm and inne
 r connection through a guided meditation session in Spanish. This 1-hour e
 xperience is designed to help participants relax their minds\, release ten
 sions\, and elevate their energy. It’s a moment dedicated entirely to se
 lf-care—an opportunity to take a deep breath and reconnect with one’s 
 true self.\nWhether you are a seasoned meditator or someone who has never 
 meditated before\, this session is open to everyone\, providing a welcomin
 g environment for all. No previous experience is necessary—just bring yo
 ur willingness to relax and rejuvenate.\n\n\nGET TICKETS\n
ATTACH;FMTTYPE=image/jpeg:https://breathemiami.us/wp-content/uploads/2025/
 02/Te-invito-a-meditar.jpeg
CATEGORIES:Wellness Events
LOCATION:Crandon Park\, 6747 Crandon Boulevard Key Biscayne\, Miami\, Flori
 da\, 33149\, United States\, United States
X-APPLE-STRUCTURED-LOCATION;VALUE=URI;X-ADDRESS=6747 Crandon Boulevard Key 
 Biscayne\, Miami\, Florida\, 33149\, United States\, United States;X-APPLE
 -RADIUS=100;X-TITLE=Crandon Park:geo:0,0
END:VEVENT
BEGIN:VTIMEZONE
TZID:America/New_York
X-LIC-LOCATION:America/New_York
BEGIN:STANDARD
DTSTART:20241103T010000
TZOFFSETFROM:-0400
TZOFFSETTO:-0500
TZNAME:EST
END:STANDARD
END:VTIMEZONE
END:VCALENDAR