BEGIN:VCALENDAR
VERSION:2.0
PRODID:-//wp-events-plugin.com//7.2.3.1//EN
TZID:America/New_York
X-WR-TIMEZONE:America/New_York
BEGIN:VEVENT
UID:521@breathemiami.us
DTSTART;TZID=America/New_York:20240615T000000
DTEND;TZID=America/New_York:20240615T000000
DTSTAMP:20240531T140911Z
URL:https://breathemiami.us/events/taste-of-argentina-salta/
SUMMARY:Taste of Argentina: Salta
DESCRIPTION:\n\n\n\n\nOn June 27th\, join Graziano's for an exquisite culin
 ary journey through the rich flavors and traditions of Salta\, Argentina. 
 This event invites you to explore the vibrant smells and sensations of Sal
 ta’s renowned culinary heritage\, perfectly complemented by the distinct
 ive wines of the region.\n\nGuests will indulge in a meticulously curated 
 four-course tasting menu\, each dish thoughtfully paired with a selection 
 of Salta’s finest wines. Each course is designed to showcase the unique 
 heritage\, wine\, and cuisine of the Salta region\, offering a true taste 
 of Argentina.\n\nThroughout the evening\, you'll be guided through an imme
 rsive gastronomic experience\, where the robust flavors and rich aromas of
  Salta come to life. From the first bite to the last sip\, each pairing is
  crafted to highlight the symbiotic relationship between Salta’s culinar
 y artistry and its celebrated wines.\n\nJoin fellow food and wine enthusia
 sts for an unforgettable evening of culinary delight\, cultural exploratio
 n\, and exceptional dining at Graziano's. Discover the essence of Salta an
 d experience Argentina's culinary excellence in an event that promises to 
 tantalize your taste buds and leave you with lasting memories.\n\nGET TICK
 ETS\n\n\n\n\n
ATTACH;FMTTYPE=image/jpeg:https://breathemiami.us/wp-content/uploads/2024/
 05/Taste-of-Argentina-Salta.jpg
CATEGORIES:Food &amp; Drink Events
LOCATION:Graziano's Restaurant Coral Gables\, 394 Giralda Avenue Coral Gabl
 es\, Miami\, Florida\, 33134\,  FL \, United States
X-APPLE-STRUCTURED-LOCATION;VALUE=URI;X-ADDRESS=394 Giralda Avenue Coral Ga
 bles\, Miami\, Florida\, 33134\,  FL \, United States;X-APPLE-RADIUS=100;X
 -TITLE=Graziano's Restaurant Coral Gables:geo:0,0
END:VEVENT
BEGIN:VTIMEZONE
TZID:America/New_York
X-LIC-LOCATION:America/New_York
BEGIN:DAYLIGHT
DTSTART:20240310T030000
TZOFFSETFROM:-0500
TZOFFSETTO:-0400
TZNAME:EDT
END:DAYLIGHT
END:VTIMEZONE
END:VCALENDAR