BEGIN:VCALENDAR
VERSION:2.0
PRODID:-//wp-events-plugin.com//7.2.3.1//EN
TZID:America/New_York
X-WR-TIMEZONE:America/New_York
BEGIN:VEVENT
UID:1002@breathemiami.us
DTSTART;TZID=America/New_York:20241027T190000
DTEND;TZID=America/New_York:20241027T203000
DTSTAMP:20241003T201430Z
URL:https://breathemiami.us/events/tantra-yoga-fusion/
SUMMARY:Tantra Yoga Fusion
DESCRIPTION:Participants are invited to immerse themselves in the transform
 ative Tantra Yoga Fusion experience\, led by Michelle Alva\, a seasoned In
 tegrative Yoga Therapist\, Hypnotist\, NLP (Neuro-Linguistic Programming) 
 practitioner\, and Tantra expert. This unique class harmoniously blends tr
 aditional yoga postures with the ancient principles of Tantra\, designed t
 o enhance physical flexibility\, build strength\, and promote energetic fl
 ow throughout the body.\n\nThroughout the session\, Michelle creates a sup
 portive and inclusive environment for all\, whether individuals are attend
 ing solo or as couples\, regardless of gender. As she guides participants 
 through a series of thoughtfully selected yoga asanas\, attendees are enco
 uraged to connect more deeply with their bodies and breath\, fostering a p
 rofound spiritual connection. Each movement is infused with Tantric princi
 ples\, allowing individuals to explore their own energy and awaken their i
 nnate potential.\n\nThe class culminates in a deeply relaxing sound journe
 y\, where soothing soundscapes intertwine with the fragrant aroma of aphro
 disiac essential oils. This multi-sensory experience not only promotes rel
 axation but also enhances emotional release and self-awareness\, inviting 
 participants to unwind and rejuvenate on multiple levels. The harmonious b
 lend of sound and scent creates an atmosphere of tranquility\, allowing fo
 r a gentle exploration of the senses.\n\nTantra Yoga Fusion offers a holis
 tic approach to wellness\, inviting participants to embrace their authenti
 c selves while cultivating a deeper connection to their body\, mind\, and 
 spirit. This transformative practice is not just about physical movement\;
  it’s a journey toward inner harmony and enlightenment. Whether one is l
 ooking to deepen their yoga practice\, explore the depths of Tantric philo
 sophy\, or simply find relaxation and peace\, this class provides the perf
 ect opportunity to do so. Participants will leave feeling empowered\, reju
 venated\, and more aligned with their true essence\, ready to carry this s
 ense of connection into their daily lives.\n\nGET TICKETS\n
ATTACH;FMTTYPE=image/jpeg:https://breathemiami.us/wp-content/uploads/2024/
 10/Tantra-Yoga-Fusion.jpg
CATEGORIES:Things To Do,Wellness Events,Yoga Events
LOCATION:The Standard Spa\, 40 Island Avenue Miami Beach\, Miami\, Florida\
 , 33139\, FL\, United States
X-APPLE-STRUCTURED-LOCATION;VALUE=URI;X-ADDRESS=40 Island Avenue Miami Beac
 h\, Miami\, Florida\, 33139\, FL\, United States;X-APPLE-RADIUS=100;X-TITL
 E=The Standard Spa:geo:0,0
END:VEVENT
BEGIN:VTIMEZONE
TZID:America/New_York
X-LIC-LOCATION:America/New_York
BEGIN:DAYLIGHT
DTSTART:20240310T030000
TZOFFSETFROM:-0500
TZOFFSETTO:-0400
TZNAME:EDT
END:DAYLIGHT
END:VTIMEZONE
END:VCALENDAR