BEGIN:VCALENDAR
VERSION:2.0
PRODID:-//wp-events-plugin.com//7.2.3.1//EN
TZID:America/New_York
X-WR-TIMEZONE:America/New_York
BEGIN:VEVENT
UID:1093@breathemiami.us
DTSTART;TZID=America/New_York;VALUE=DATE:20241115
DTEND;TZID=America/New_York;VALUE=DATE:20241116
DTSTAMP:20241015T135803Z
URL:https://breathemiami.us/events/tantra-speed-dating-night-tantric-love-
 couples/
SUMMARY:Tantra Speed Dating Night - Tantric Love & Couples
DESCRIPTION:Join the Miami Spiritual Professionals Yoga &amp\; Therapy Meet
 up Group for a unique and transformative experience at the Tantra Speed Da
 ting Night. This event is dedicated to exploring the power and wisdom of t
 he energy within us\, blending elements of Tantra\, psychotherapy\, and mo
 vement therapy to foster genuine connections among participants.\n\nLed by
  skilled practitioners in Tantra and yoga\, this workshop provides a safe 
 and nurturing environment for individuals to delve deeper into their spiri
 tual journeys. Attendees will engage in a series of empowering practices a
 nd exercises designed to harness divine energy for healing\, self-discover
 y\, and personal growth.\nElevate Your Dating Experience: Conscious Speed 
 Dating at Flying With Air\nAre you ready to revolutionize your approach to
  dating? At Flying With Air in Coral Gables\, the conventional dating scen
 e is transformed into a mindful journey of authentic connection and person
 al exploration. Say goodbye to awkward small talk and superficial interact
 ions—this event is all about rediscovering oneself while connecting with
  potential partners.\nWhat Makes This Event Special?\n\n 	Sacred Space: A 
 calming atmosphere is cultivated to open hearts and ease nerves\, facilita
 ting deeper connections among participants.\n 	Mindful Interactions: Exper
 t facilitators guide participants through exercises that encourage genuine
  connection beyond surface-level conversation.\n 	Focus on Personal Growth
 : Regardless of whether attendees are newly single or experienced daters\,
  this event nurtures the journey of self-discovery.\n 	Community of Like-M
 inded Individuals: Connect with others who prioritize personal growth and 
 value authentic relationships.\n\nA Different Kind of Dating Scene\nTradit
 ional dating can often feel tedious and unfulfilling. However\, this event
  offers a transformative opportunity—not just for meeting potential part
 ners\, but for reconnecting with one’s authentic self. It’s a chance t
 o heal past relationship patterns and learn to trust one’s intuition.\nW
 hat to Expect:\n\n 	Grounding Circle: Participants will set intentions and
  center themselves in the present moment\, fostering a sense of connection
 .\n 	Guided Connection Exercises: Engage in activities designed to encoura
 ge genuine interaction and personal reflection.\n 	Mindful Mingling: Enjoy
  organic conversations in a thoughtfully curated space that enhances the d
 ating experience.\n 	Integration Ceremony: Reflect on the experience and h
 onor the connections formed during the event.\n\nIs This Event Right for Y
 ou?\nThis gathering is perfect for:\n\n 	Professionals seeking meaningful 
 connections beyond the superficial swipe-right culture.\n 	Individuals on 
 a journey of self-discovery and personal development.\n 	Those ready to ap
 proach dating with mindfulness and intention.\n 	Anyone yearning for authe
 ntic interactions in a fast-paced world.\n\nSpecial Offer: Unlock Your Per
 sonal Magnetism\nIf the spark of personal growth resonates with you\, cont
 inue your journey with our Personal Magnetism Workshop. All participants i
 n the Conscious Speed Dating event receive a 20% discount on workshop tick
 ets. Discover the keys to attracting fulfilling relationships and achievin
 g success in various aspects of life.\nReady to Elevate Your Dating Experi
 ence?\nSpaces for this intimate event are limited to ensure a transformati
 ve experience. Don’t let fear hold you back\; your future self will be g
 rateful for this step towards authentic connection and self-discovery.\n\n
 Book your spot now and prepare to embark on a journey of genuine interacti
 on and personal growth. Remember\, true connection starts with being true 
 to oneself. Let’s begin this journey together!\n\nPlease note: This is a
  sober event\, as we believe in the power of presence to create meaningful
  connections.\n\nGET TICKETS\n
ATTACH;FMTTYPE=image/jpeg:https://breathemiami.us/wp-content/uploads/2024/
 10/Tantra-Speed-Dating-Night-Tantric-Love-Couples.jpg
CATEGORIES:Wellness Events
LOCATION:1600 Ponce de Leon\, 1600 Ponce de Leon Coral Gables\, Miami\, Flo
 rida\, 33134\, FL\, United States
X-APPLE-STRUCTURED-LOCATION;VALUE=URI;X-ADDRESS=1600 Ponce de Leon Coral Ga
 bles\, Miami\, Florida\, 33134\, FL\, United States;X-APPLE-RADIUS=100;X-T
 ITLE=1600 Ponce de Leon:geo:0,0
END:VEVENT
BEGIN:VTIMEZONE
TZID:America/New_York
X-LIC-LOCATION:America/New_York
BEGIN:STANDARD
DTSTART:20241103T010000
TZOFFSETFROM:-0400
TZOFFSETTO:-0500
TZNAME:EST
END:STANDARD
END:VTIMEZONE
END:VCALENDAR