BEGIN:VCALENDAR
VERSION:2.0
PRODID:-//wp-events-plugin.com//7.2.3.1//EN
TZID:America/New_York
X-WR-TIMEZONE:America/New_York
BEGIN:VEVENT
UID:565@breathemiami.us
DTSTART;TZID=America/New_York:20240701T190000
DTEND;TZID=America/New_York:20240701T210000
DTSTAMP:20240623T195133Z
URL:https://breathemiami.us/events/tantra-mondays/
SUMMARY:Tantra Mondays
DESCRIPTION:Explore the art of expressing your deepest desires with clarity
 \, vulnerability\, and enthusiasm at Tantra Mondays\, a transformative wor
 kshop designed to deepen connection and intimacy.\n\nWorkshop Overview:\n\
 nAt Tantra Mondays\, participants engage in an experiential journey aimed 
 at cultivating authentic communication and embracing desires without shame
  or confusion. Led by experienced facilitators\, the workshop focuses on f
 ostering conscious connections with oneself and others\, enabling individu
 als to articulate and receive their true desires with openness.\n\nKey Ele
 ments:\n\n 	Expressive Communication: Learn techniques to articulate desir
 es clearly and confidently\, fostering deeper connections and mutual under
 standing.\n 	Vulnerability and Presence: Cultivate a state of presence tha
 t allows for authentic expression and reception of desires\, promoting emo
 tional intimacy and trust.\n 	Interactive Exploration: Engage in hands-on 
 activities that encourage exploration and expression of desires in a safe 
 and respectful environment.\n\nWhat to Expect:\n\nParticipants can expect 
 a supportive atmosphere where they can explore and express their desires f
 ully. Whether attending alone\, with a partner\, or among friends\, indivi
 duals will have the opportunity to lean into the edges of their desires th
 rough structured exercises and guided discussions.\n\nImportant Details:\n
 \n 	Mutual Consent: All interactions and touch within the workshop are gui
 ded by mutual consent agreements\, ensuring a safe and respectful environm
 ent for all participants.\n 	Attire: Participants are required to remain f
 ully clothed throughout the workshop.\n\nWho Should Attend:\n\nThis worksh
 op is ideal for anyone seeking to enhance their emotional connection\, exp
 and their capacity for pleasure through touch\, and embrace vulnerability 
 in relationships. Whether you are single\, in a partnership\, or exploring
  with friends\, Tantra Mondays offers a welcoming space to explore and cel
 ebrate desires in a mindful and heart-centered manner.\n\nJoin us at Tantr
 a Mondays to unlock the power of expressing your desires authentically and
  fostering deeper connections in your life. Embrace the journey towards gr
 eater intimacy and fulfillment – one heartfelt desire at a time.\n\nGET 
 TICKETS\n
ATTACH;FMTTYPE=image/jpeg:https://breathemiami.us/wp-content/uploads/2024/
 06/TANTRA-MONDAYS.jpg
CATEGORIES:Mindfulness Events
LOCATION:Tantra Studios\, 390 Northeast 59th Terrace Miami\, Miami Beach\, 
 Florida\, 33137 \,  FL \, United States
X-APPLE-STRUCTURED-LOCATION;VALUE=URI;X-ADDRESS=390 Northeast 59th Terrace 
 Miami\, Miami Beach\, Florida\, 33137 \,  FL \, United States;X-APPLE-RADI
 US=100;X-TITLE=Tantra Studios:geo:0,0
END:VEVENT
BEGIN:VTIMEZONE
TZID:America/New_York
X-LIC-LOCATION:America/New_York
BEGIN:DAYLIGHT
DTSTART:20240310T030000
TZOFFSETFROM:-0500
TZOFFSETTO:-0400
TZNAME:EDT
END:DAYLIGHT
END:VTIMEZONE
END:VCALENDAR