BEGIN:VCALENDAR
VERSION:2.0
PRODID:-//wp-events-plugin.com//7.2.3.1//EN
TZID:America/New_York
X-WR-TIMEZONE:America/New_York
BEGIN:VEVENT
UID:523@breathemiami.us
DTSTART;TZID=America/New_York:20240628T160000
DTEND;TZID=America/New_York:20240628T190000
DTSTAMP:20240531T145344Z
URL:https://breathemiami.us/events/swim-week-vip-art-deco-fashion-show/
SUMMARY:SWIM WEEK VIP - Art Deco Fashion Show
DESCRIPTION:\n\n\n\n\nExperience the glamour of the Art Deco era at the SWI
 M WEEK VIP - Art Deco Fashion Show\, presented by The Gabriel Hotel\, Sout
 h Beach. As the models strut down the runway\, adorned in bold colors and 
 geometric designs that epitomize Art Deco fashion\, they inspire us to emb
 race transformation and envision a brighter future.\n\nThis fashion show i
 s a celebration of creativity and imagination\, highlighting the timeless 
 elegance and modern allure of Art Deco style. Each ensemble showcases the 
 intricate patterns and vibrant hues that define this iconic period\, remin
 ding us of the endless possibilities that lie ahead.\n\nJoin us for an eve
 ning of sophistication and innovation\, where the past meets the present i
 n a stunning display of fashion artistry. The SWIM WEEK VIP - Art Deco Fas
 hion Show is more than a runway event\; it's a journey through a world of 
 elegance and inspiration\, urging us all to dream big and embrace the futu
 re with confidence.\n\nGET TICKETS\n\n\n\n\n
ATTACH;FMTTYPE=image/jpeg:https://breathemiami.us/wp-content/uploads/2024/
 05/SWIM-WEEK-VIP-Art-Deco-Fashion-Show.jpg
LOCATION:The Gabriel Miami South Beach\, 640 Ocean Drive Miami Beach\, Miam
 i\, Florida\, 33139\,  FL \, United States
X-APPLE-STRUCTURED-LOCATION;VALUE=URI;X-ADDRESS=640 Ocean Drive Miami Beach
 \, Miami\, Florida\, 33139\,  FL \, United States;X-APPLE-RADIUS=100;X-TIT
 LE=The Gabriel Miami South Beach:geo:0,0
END:VEVENT
BEGIN:VTIMEZONE
TZID:America/New_York
X-LIC-LOCATION:America/New_York
BEGIN:DAYLIGHT
DTSTART:20240310T030000
TZOFFSETFROM:-0500
TZOFFSETTO:-0400
TZNAME:EDT
END:DAYLIGHT
END:VTIMEZONE
END:VCALENDAR