BEGIN:VCALENDAR
VERSION:2.0
PRODID:-//wp-events-plugin.com//7.2.3.1//EN
TZID:America/New_York
X-WR-TIMEZONE:America/New_York
BEGIN:VEVENT
UID:936@breathemiami.us
DTSTART;TZID=America/New_York:20241019T100000
DTEND;TZID=America/New_York:20241019T120000
DTSTAMP:20240930T072920Z
URL:https://breathemiami.us/events/sweat-and-tell-x-rosey-times-two-workou
 t/
SUMMARY:Sweat and Tell x Rosey Times Two Workout
DESCRIPTION:Join the community for an invigorating Saturday morning dedicat
 ed to wellness at Uma House in Miami! This exciting event features a colla
 boration between Jo and Jacqs from @sweatandtell\, alongside Ashley and Am
 anda from @roseytimestwo. Together\, they will guide participants through 
 a dynamic 45-minute full-body workout designed to energize and strengthen 
 every muscle.\n\nFollowing the workout\, attendees are invited to a relaxe
 d community hangout\, where they can engage in a meet-and-greet with the i
 nstructors and fellow fitness enthusiasts. This is a fantastic opportunity
  to connect with like-minded individuals while enjoying light bites that n
 ourish the body and spirit.\n\nAs a special bonus\, each participant will 
 receive a thoughtfully curated goodie bag filled with products from some o
 f their favorite health\, wellness\, and beauty brands. Included in the ba
 gs are delightful items from Jay Beauty\, refreshing ADAY electrolytes\, w
 holesome snacks from Simple Mills\, and much more to enhance their wellnes
 s journey.\n\nThis event not only promises a challenging and rewarding wor
 kout but also fosters a sense of community and connection among participan
 ts. Whether you’re a seasoned fitness enthusiast or new to the workout s
 cene\, this gathering is designed to uplift and inspire everyone involved.
  Don’t miss out on this vibrant celebration of health and wellness—com
 e sweat\, connect\, and enjoy a delightful morning at Uma House!\n\nGET TI
 CKETS\n
ATTACH;FMTTYPE=image/jpeg:https://breathemiami.us/wp-content/uploads/2024/
 09/Sweat-and-Tell-x-Rosey-Times-Two-Workout.jpg
CATEGORIES:Sports &amp; Fitness Events,Things To Do,Wellness Events
LOCATION:1775 James Ave\, 1775 James Avenue Miami Beach\, Miami\, Florida\,
  33139\, FL\, United States
X-APPLE-STRUCTURED-LOCATION;VALUE=URI;X-ADDRESS=1775 James Avenue Miami Bea
 ch\, Miami\, Florida\, 33139\, FL\, United States;X-APPLE-RADIUS=100;X-TIT
 LE=1775 James Ave:geo:0,0
END:VEVENT
BEGIN:VTIMEZONE
TZID:America/New_York
X-LIC-LOCATION:America/New_York
BEGIN:DAYLIGHT
DTSTART:20240310T030000
TZOFFSETFROM:-0500
TZOFFSETTO:-0400
TZNAME:EDT
END:DAYLIGHT
END:VTIMEZONE
END:VCALENDAR