BEGIN:VCALENDAR
VERSION:2.0
PRODID:-//wp-events-plugin.com//7.2.3.1//EN
TZID:America/New_York
X-WR-TIMEZONE:America/New_York
BEGIN:VEVENT
UID:438@breathemiami.us
DTSTART;TZID=America/New_York:20240502T170000
DTEND;TZID=America/New_York:20240502T190000
DTSTAMP:20240416T230517Z
URL:https://breathemiami.us/events/sushi-soiree-for-feminine-longevity/
SUMMARY:Sushi Soiree for Feminine Longevity
DESCRIPTION:\nCelebrate Feminine Strength &amp\; Wellness: Sushi Soiree for
  Longevity!\nCalling all women who prioritize their well-being! Join us fo
 r the "Sushi Soiree for Feminine Longevity\," an empowering evening filled
  with delicious food and inspiring conversations.\nConnect &amp\; Celebrat
 e:\nThis in-person event at Sushi Bichi offers the perfect opportunity to 
 connect with like-minded women who share your passion for health and longe
 vity.\nNourish Your Body &amp\; Soul:\nIndulge in a delectable spread of s
 ushi rolls – a culinary treat to complement your journey of well-being.\
 nEmpowering Discussions:\nUnwind and participate in inspiring conversation
 s about feminine health\, self-care practices\, and achieving holistic wel
 l-being.\nA Night of Strength &amp\; Resilience:\nThis soiree is more than
  just a meal\; it's a celebration of the unique strength and resilience of
  women. Come celebrate your journey and connect with a supportive communit
 y.\nDon't Miss Out!\nSpace is limited for this empowering event. Secure yo
 ur spot today and join us for a night of delicious food\, inspiring connec
 tions\, and celebrating the power of feminine well-being!\nTogether\, we c
 an create a thriving community of women who prioritize health and longevit
 y. See you there!\n\n\n\nBOOK SPOTS\n
ATTACH;FMTTYPE=image/jpeg:https://breathemiami.us/wp-content/uploads/2024/
 04/https___cdn.evbuc_.com_images_735763939_1977227249083_1_original.jpeg
CATEGORIES:Wellness Events
LOCATION:Sushi Bichi\, 7330 Ocean Terrace #CU5\, Miami Beach\, Florida\, 33
 141\, United States
X-APPLE-STRUCTURED-LOCATION;VALUE=URI;X-ADDRESS=7330 Ocean Terrace #CU5\, M
 iami Beach\, Florida\, 33141\, United States;X-APPLE-RADIUS=100;X-TITLE=Su
 shi Bichi:geo:0,0
END:VEVENT
BEGIN:VTIMEZONE
TZID:America/New_York
X-LIC-LOCATION:America/New_York
BEGIN:DAYLIGHT
DTSTART:20240310T030000
TZOFFSETFROM:-0500
TZOFFSETTO:-0400
TZNAME:EDT
END:DAYLIGHT
END:VTIMEZONE
END:VCALENDAR