BEGIN:VCALENDAR
VERSION:2.0
PRODID:-//wp-events-plugin.com//7.2.3.1//EN
TZID:America/New_York
X-WR-TIMEZONE:America/New_York
BEGIN:VEVENT
UID:634@breathemiami.us
DTSTART;TZID=America/New_York:20240725T190000
DTEND;TZID=America/New_York:20240725T210000
DTSTAMP:20240722T184849Z
URL:https://breathemiami.us/events/sushi-making-classes/
SUMMARY:Sushi Making Classes
DESCRIPTION:Learn the art of sushi making at Paperfish\, where our in-perso
 n classes will teach you the secrets to creating delicious rolls and nigir
 i.\n\nGET TICKETS\n\n&nbsp\;\n\n      . . . . . . . . . 
ATTACH;FMTTYPE=image/jpeg:https://breathemiami.us/wp-content/uploads/2024/
 07/Sushi_Making_Classes_at_Paperfish.jpeg
CATEGORIES:Food &amp; Drink Events
LOCATION:Paperfish\, 432 Española Way\, Miami Beach\, FL\, 33139\, United 
 States
X-APPLE-STRUCTURED-LOCATION;VALUE=URI;X-ADDRESS=432 Española Way\, Miami B
 each\, FL\, 33139\, United States;X-APPLE-RADIUS=100;X-TITLE=Paperfish:geo
 :0,0
END:VEVENT
BEGIN:VTIMEZONE
TZID:America/New_York
X-LIC-LOCATION:America/New_York
BEGIN:DAYLIGHT
DTSTART:20240310T030000
TZOFFSETFROM:-0500
TZOFFSETTO:-0400
TZNAME:EDT
END:DAYLIGHT
END:VTIMEZONE
END:VCALENDAR