BEGIN:VCALENDAR
VERSION:2.0
PRODID:-//wp-events-plugin.com//7.2.3.1//EN
TZID:America/New_York
X-WR-TIMEZONE:America/New_York
BEGIN:VEVENT
UID:953@breathemiami.us
DTSTART;TZID=America/New_York:20241026T140000
DTEND;TZID=America/New_York:20241026T160000
DTSTAMP:20241002T163407Z
URL:https://breathemiami.us/events/sushi-making-classes-brickell/
SUMMARY:Sushi Making Classes | Brickell
DESCRIPTION:Discover the art of sushi making with in-person classes at Pape
 rfish\, located in the heart of Brickell. Under the expert guidance of ski
 lled sushi chefs\, participants will uncover the secrets to crafting authe
 ntic and delicious sushi rolls and nigiri. Whether you're a complete begin
 ner or looking to enhance your culinary skills\, this interactive class of
 fers a hands-on experience\, teaching traditional techniques and ingredien
 t preparation.\n\nParticipants will learn everything from selecting the fr
 eshest ingredients to mastering the art of rice preparation\, rolling\, an
 d garnishing. The chefs will guide you step-by-step through the entire pro
 cess\, ensuring each sushi creation is both visually stunning and mouthwat
 eringly tasty. You’ll leave the class with the knowledge and confidence 
 to recreate these delicacies in your own kitchen.\n\nPerfect for food enth
 usiasts\, group outings\, or date nights\, the sushi-making class at Paper
 fish offers a fun and engaging atmosphere where participants can enjoy lea
 rning a new skill while indulging in the vibrant flavors of Japanese cuisi
 ne.\n\nFor more information on available dates and how to reserve your spo
 t\, visit Sushi Making Classes | Brickell.\n\nGET TICKETS\n
ATTACH;FMTTYPE=image/jpeg:https://breathemiami.us/wp-content/uploads/2024/
 10/Sushi-Making-Classes-Brickell.jpg
CATEGORIES:Food &amp; Drink Events
LOCATION:1421 S Miami Ave\, 1421 South Miami Avenue \, Miami\, Florida\, 33
 130\, FL\, United States
X-APPLE-STRUCTURED-LOCATION;VALUE=URI;X-ADDRESS=1421 South Miami Avenue \, 
 Miami\, Florida\, 33130\, FL\, United States;X-APPLE-RADIUS=100;X-TITLE=14
 21 S Miami Ave:geo:0,0
END:VEVENT
BEGIN:VTIMEZONE
TZID:America/New_York
X-LIC-LOCATION:America/New_York
BEGIN:DAYLIGHT
DTSTART:20240310T030000
TZOFFSETFROM:-0500
TZOFFSETTO:-0400
TZNAME:EDT
END:DAYLIGHT
END:VTIMEZONE
END:VCALENDAR