BEGIN:VCALENDAR
VERSION:2.0
PRODID:-//wp-events-plugin.com//7.2.3.1//EN
TZID:America/New_York
X-WR-TIMEZONE:America/New_York
BEGIN:VEVENT
UID:1256@breathemiami.us
DTSTART;TZID=America/New_York:20250223T173000
DTEND;TZID=America/New_York:20250223T190000
DTSTAMP:20250212T174042Z
URL:https://breathemiami.us/events/surrender-through-sound-yin-yoga-sound-
 bath-with-ashley-brenda/
SUMMARY:Surrender Through Sound- Yin Yoga & Sound Bath with Ashley & Brenda
DESCRIPTION:Embrace the serene energy of Pisces season with an evening dedi
 cated to deep relaxation\, fluid movement\, and sound healing. This unique
  experience invites participants to surrender to the element of water—sy
 mbolizing flow\, intuition\, and emotional balance—through a harmonious 
 blend of Yin Yoga\, vibrational sound therapy\, and mindful intention sett
 ing.\nGuided by experienced facilitators Ashley and Brenda\, this session 
 is designed to help release tension\, quiet the mind\, and restore inner p
 eace. The slow\, meditative Yin Yoga practice will encourage deep stretchi
 ng and stillness\, preparing the body and mind to fully absorb the therape
 utic frequencies of a live sound bath.\nAs the resonant tones of crystal s
 inging bowls\, chimes\, and other instruments wash over you\, you'll be ge
 ntly guided into a meditative state\, allowing for profound relaxation and
  energetic alignment. To close the evening\, participants will engage in a
 n intention-setting ritual\, harnessing the fluid and introspective energy
  of Pisces season to cultivate clarity and renewal.\n✨ What to Expect:\n
 \n\n 	Yin Yoga Flow – A deeply restorative practice focused on gentle\, 
 long-held stretches to release tension and enhance flexibility.\n 	Sound B
 ath Healing – Experience the soothing vibrations of crystal bowls\, chim
 es\, and other instruments designed to balance energy and promote deep rel
 axation.\n 	Intention Setting – Align with the energy of Pisces season b
 y setting mindful intentions for growth\, transformation\, and inner peace
 .\n 	Nourishing Yogi Tea – Enjoy a warm\, grounding cup of herbal tea to
  complete your experience with a sense of comfort and connection.\n\n🌊 
 Why Join?\n\n\n 	Cultivate a sense of ease and surrender in both body and 
 mind.\n 	Harness the fluid energy of Pisces season for self-reflection and
  renewal.\n 	Experience deep relaxation through sound healing and mindful 
 movement.\n 	Connect with a like-minded community in a tranquil and suppor
 tive space.\n\n📍 Location &amp\; Details:📅 Date: [Insert Date]⏰ Ti
 me: [Insert Time]📍 Venue: [Insert Location]🎟 Investment: [Insert Pri
 ce]\n✨ Bring:\n\n\n 	A yoga mat\n 	A cozy blanket for extra comfort\n 	A
  water bottle for hydration\n 	An open heart and willingness to surrender\
 n\nReserve your spot now for an evening of self-care\, introspection\, and
  profound relaxation. Let the waves of sound and movement carry you into a
  state of deep peace and renewal. 🌊✨\n\n\nGET TICKETS\n
ATTACH;FMTTYPE=image/jpeg:https://breathemiami.us/wp-content/uploads/2025/
 02/Surrender-Through-Sound-Yin-Yoga-Sound-Bath-with-Ashley-Brenda.jpeg
CATEGORIES:Yoga Events
LOCATION:Ahana Yoga\, 43 NE 38 st Miami\, Miami\, Florida\, 33137\, FL\, Un
 ited States
X-APPLE-STRUCTURED-LOCATION;VALUE=URI;X-ADDRESS=43 NE 38 st Miami\, Miami\,
  Florida\, 33137\, FL\, United States;X-APPLE-RADIUS=100;X-TITLE=Ahana Yog
 a:geo:0,0
END:VEVENT
BEGIN:VTIMEZONE
TZID:America/New_York
X-LIC-LOCATION:America/New_York
BEGIN:STANDARD
DTSTART:20241103T010000
TZOFFSETFROM:-0400
TZOFFSETTO:-0500
TZNAME:EST
END:STANDARD
END:VTIMEZONE
END:VCALENDAR