BEGIN:VCALENDAR
VERSION:2.0
PRODID:-//wp-events-plugin.com//7.2.3.1//EN
TZID:America/New_York
X-WR-TIMEZONE:America/New_York
BEGIN:VEVENT
UID:1124@breathemiami.us
DTSTART;TZID=America/New_York:20241116T150000
DTEND;TZID=America/New_York:20241116T180000
DTSTAMP:20241023T032112Z
URL:https://breathemiami.us/events/sup-sound-sunset-sound-bath-meditation-
 on-the-water-a-special-collab/
SUMMARY:SUP & SOUND - SUNSET SOUND BATH meditation on the water & a special
  collab.
DESCRIPTION:\n\n\n\n\nGet ready to embark on a serene journey with SUP &amp
 \; Sound – Sunset Sound Bath Meditation on the Water\, hosted by Sana_Sa
 nate. This exclusive event invites participants to unwind and connect with
  the natural beauty of Biscayne Bay in Miami Beach\, where the gentle wate
 rs and soothing sounds merge to create a unique meditative experience.\n\n
 Whether you’re new to meditation or a seasoned practitioner\, this exper
 ience welcomes everyone. You will float peacefully on a paddleboard or kay
 ak\, guided by the calming vibrations of a sound bath\, designed to help y
 ou release stress and reconnect with yourself. No prior experience is requ
 ired—just come with an open heart and mind.\n\nEvent Details:\n\n 	Locat
 ion: Biscayne Bay Paddleboards &amp\; Kayaks\nAddress: 1800 Sunset Harbor 
 Drive\, Unit 3\, Miami Beach\, FL 33139. (If using Apple Maps\, use 1800 P
 urdy\, Unit 3\, Miami Beach\, FL 33139\; meet at the rear of the building 
 by the marina side).\n 	Parking: Public parking is available\, with option
 s to pay via meter or ParkMobile.\n\nSchedule:\n\n 	2:45 PM: Meet at the d
 esignated location\, where participants will receive paddleboards or kayak
 s and a brief safety overview.\n 	Following safety instructions\, the grou
 p will paddle to the meditation spot on the water\, where the magic unfold
 s.\n\nParticipants will experience a deeply relaxing sound bath\, accompan
 ied by guided breathwork and meditation led by holistic therapist Erika Sa
 nta Cruz\, known for her expertise as an angel therapist. Additionally\, e
 njoy a special collaboration with musician Sofia Dias\, who will perform w
 ith guitar and vocals exclusively on November 16th.\n\nAs the sun begins t
 o set\, participants will paddle back to the starting point on illuminated
  paddleboards\, reflecting on the transformative experience.\n\nTicket Inf
 ormation:\n\n 	Eventbrite: $49 (plus taxes)\n 	For direct payment options:
  Contact via Instagram DM @sana_sanate for Venmo or Zelle.\n\nEvent Benefi
 ts: The sound bath meditation offers a range of benefits\, including:\n\n 
 	Reduced stress and anxiety\n 	Deep relaxation\n 	Emotional balance\n 	Ene
 rgetic body alignment\n 	Relief from physical tension and pain\n 	Improved
  sleep quality\n\nEvent Duration: Approximately 3 hours.\n\nAmenities Incl
 uded:\n\n 	Paddleboard or kayak\n 	Watertight bag for personal belongings\
 n 	Waterproof cases for cell phones\n 	Complimentary cold refreshments\n 	
 Instruction on safely navigating your board\n 	Sound bath\, meditation\, a
 nd breathwork on the water\n\nWhat to Bring:\n\n 	Comfortable\, sun-protec
 tive clothing (preferably white)\n 	Sunscreen\n 	Towel (optional)\n 	Sungl
 asses\n\nThis experience offers a rare opportunity to immerse yourself in 
 the power of nature\, sound\, and meditation. Recharge your body\, mind\, 
 and spirit as you float on the water\, soaking in the healing vibrations o
 f sound and the peacefulness of the bay. Don’t miss out on this transfor
 mative experience!\n\n\n\n\n\n\nGET TICKETS\n
ATTACH;FMTTYPE=image/jpeg:https://breathemiami.us/wp-content/uploads/2024/
 10/SUP-SOUND-SUNSET-SOUND-BATH-meditation-on-the-water-a-special-collab.jp
 g
CATEGORIES:Wellness Events
LOCATION:Biscayne Bay Paddleboards & Kayaks\, 1800 Sunset Harbour Drive\, 3
  Miami Beach\, Florida\, 33139\, FL\, United States
X-APPLE-STRUCTURED-LOCATION;VALUE=URI;X-ADDRESS=1800 Sunset Harbour Drive\,
  3 Miami Beach\, Florida\, 33139\, FL\, United States;X-APPLE-RADIUS=100;X
 -TITLE=Biscayne Bay Paddleboards & Kayaks:geo:0,0
END:VEVENT
BEGIN:VTIMEZONE
TZID:America/New_York
X-LIC-LOCATION:America/New_York
BEGIN:STANDARD
DTSTART:20241103T010000
TZOFFSETFROM:-0400
TZOFFSETTO:-0500
TZNAME:EST
END:STANDARD
END:VTIMEZONE
END:VCALENDAR