BEGIN:VCALENDAR
VERSION:2.0
PRODID:-//wp-events-plugin.com//7.2.3.1//EN
TZID:America/New_York
X-WR-TIMEZONE:America/New_York
BEGIN:VEVENT
UID:436@breathemiami.us
DTSTART;TZID=America/New_York:20240503T180000
DTEND;TZID=America/New_York:20240503T193000
DTSTAMP:20240416T225514Z
URL:https://breathemiami.us/events/sunset-yoga-livingwatersyoga/
SUMMARY:Sunset Yoga - LivingWatersYoga
DESCRIPTION:\nFind Peace and Purpose: Reconnect with Your Spiritual Core\nT
 here's a powerful river of peace flowing within us\, a love that transcend
 s understanding - the love of God. As spiritual beings having a human expe
 rience\, everything we do carries a spiritual undercurrent.\nJust as we no
 urish our bodies\, so too must we nourish our spirits. This nourishment co
 mes from reconnecting with our source\, God himself. He offers us the powe
 r\, guidance\, and fulfillment we seek.\nThis space we cultivate is one wh
 ere God can speak directly to our unique situations. He guides us towards 
 peace\, love\, and a life filled with purpose.\nHere are some ways to reco
 nnect with your spiritual core:\n\n\n 	Prayer: Set aside time for quiet re
 flection and communication with God.\n 	Meditation: Practice mindfulness t
 o quiet the external world and allow the voice of God to be heard.\n 	Grat
 itude: Expressing thankfulness for your blessings fosters a connection wit
 h the divine source of all good things.\n 	Service: Helping others is a po
 werful way to connect with God's love and share it with the world.\n 	Natu
 re: Immerse yourself in the beauty of creation as a way to feel God's pres
 ence.\n\nBy prioritizing your spiritual well-being\, you'll experience a d
 eeper sense of peace\, purpose\, and the abundant fruits of a life lived i
 n connection with the divine.\nLet go and allow God's love to guide you!\n
 \n\n\nBOOK SPOTS\n
ATTACH;FMTTYPE=image/jpeg:https://breathemiami.us/wp-content/uploads/2024/
 04/https___cdn.evbuc_.com_images_732988579_2083948535093_1_original.jpeg
CATEGORIES:Wellness Events
LOCATION:Kendall Indian Hammocks Skate Park\, 11395 Southwest 79th Street\,
  Miami\, Florida\, 33173\, United States
X-APPLE-STRUCTURED-LOCATION;VALUE=URI;X-ADDRESS=11395 Southwest 79th Street
 \, Miami\, Florida\, 33173\, United States;X-APPLE-RADIUS=100;X-TITLE=Kend
 all Indian Hammocks Skate Park:geo:0,0
END:VEVENT
BEGIN:VTIMEZONE
TZID:America/New_York
X-LIC-LOCATION:America/New_York
BEGIN:DAYLIGHT
DTSTART:20240310T030000
TZOFFSETFROM:-0500
TZOFFSETTO:-0400
TZNAME:EDT
END:DAYLIGHT
END:VTIMEZONE
END:VCALENDAR