BEGIN:VCALENDAR
VERSION:2.0
PRODID:-//wp-events-plugin.com//7.2.3.1//EN
TZID:America/New_York
X-WR-TIMEZONE:America/New_York
BEGIN:VEVENT
UID:877@breathemiami.us
DTSTART;TZID=America/New_York:20240926T183000
DTEND;TZID=America/New_York:20240926T200000
DTSTAMP:20240917T070511Z
URL:https://breathemiami.us/events/sunset-savasana/
SUMMARY:Sunset Savasana
DESCRIPTION:Join us for a peaceful and transformative evening at Sunset Sav
 asana in celebration of National Yoga Month! This special outdoor yoga ses
 sion invites you to unwind and find balance as the sun dips below the hori
 zon\, creating a serene atmosphere for relaxation and renewal.\n\nEvent Ov
 erview: 🌅 6:00 PM – Registration\nArrive early to check in and settle
  into the peaceful ambiance of the evening.\n\n🧘‍♀️ 6:30 PM – S
 unset Savasana Session\nLed by the skilled instructors at Best Life-ing\, 
 this 45-minute class combines gentle yoga flows with restorative poses\, a
 llowing participants of all levels to release stress and find inner calm a
 s the sky transitions into twilight. Whether you're new to yoga or a seaso
 ned practitioner\, this session offers a tranquil space to reconnect with 
 yourself and let go of the day's tension.\n\n🌿 7:15 PM – Wellness Exp
 eriences\nAfter the yoga session\, extend your experience with a variety o
 f wellness activities designed to nurture your mind\, body\, and spirit. I
 mmerse yourself in interactive wellness stations\, explore holistic therap
 ies\, and engage in activities that will leave you feeling rejuvenated and
  inspired.\n\nThings to Know:\n\n 	RSVP is required to secure your spot fo
 r this calming experience.\n 	Valet parking is available at a discounted r
 ate of $10 per vehicle\, and public parking options are nearby.\n 	This is
  an outdoor event\, so dress comfortably and bring a light layer in case t
 he evening gets cooler.\n\nWhat to Bring:\nPlease bring a yoga mat and any
  personal items you may need for a yoga session\, such as a sweat towel\, 
 water bottle\, or small blanket for extra comfort.\n\nThis event is the pe
 rfect way to honor National Yoga Month while embracing the restorative pow
 er of yoga and wellness. Set the tone for a peaceful night’s rest and ce
 lebrate self-care as the sun sets into the horizon.\n\nGET TICKETS\n
ATTACH;FMTTYPE=image/jpeg:https://breathemiami.us/wp-content/uploads/2024/
 09/Sunset-Savasana.jpg
CATEGORIES:Things To Do,Wellness Events
LOCATION:Palm Court at Carillon Miami Wellness Resort\, 6801 Collins Avenue
  Miami Beach\, Miami\, Florida\, 33141\, FL\, United States
X-APPLE-STRUCTURED-LOCATION;VALUE=URI;X-ADDRESS=6801 Collins Avenue Miami B
 each\, Miami\, Florida\, 33141\, FL\, United States;X-APPLE-RADIUS=100;X-T
 ITLE=Palm Court at Carillon Miami Wellness Resort:geo:0,0
END:VEVENT
BEGIN:VTIMEZONE
TZID:America/New_York
X-LIC-LOCATION:America/New_York
BEGIN:DAYLIGHT
DTSTART:20240310T030000
TZOFFSETFROM:-0500
TZOFFSETTO:-0400
TZNAME:EDT
END:DAYLIGHT
END:VTIMEZONE
END:VCALENDAR