BEGIN:VCALENDAR
VERSION:2.0
PRODID:-//wp-events-plugin.com//7.2.3.1//EN
TZID:America/New_York
X-WR-TIMEZONE:America/New_York
BEGIN:VEVENT
UID:566@breathemiami.us
DTSTART;TZID=America/New_York:20240711T183000
DTEND;TZID=America/New_York:20240711T193000
DTSTAMP:20240623T201137Z
URL:https://breathemiami.us/events/sunset-beach-yoga-class-at-sagamore-hot
 el/
SUMMARY:Sunset Beach Yoga Class at Sagamore Hotel
DESCRIPTION:Prepare to relax and rejuvenate with our Sunset Yoga Flow + Sou
 nd Healing Session starting at 6:30 PM. Whether you're new to yoga or a se
 asoned practitioner\, this class is designed for all levels of experience.
 \n\nEvent Highlights:\n\nBegin your evening with a Cosmic Flow yoga sessio
 n\, a sequence of Asanas that align with the current astrological transits
 \, including moon phases and sun phases. This unique approach to yoga enha
 nces your connection to celestial energies\, promoting balance and harmony
  within.\n\nFollowing the Cosmic Flow\, immerse yourself in a transformati
 ve sound healing session. Experience the soothing vibrations of sound heal
 ing instruments like Tibetan singing bowls\, crystal bowls\, and gongs\, a
 imed at elevating your consciousness and inducing a state of deep relaxati
 on and bliss.\n\nWhat to Expect:\n\n 	Yoga for All Levels: Whether you're 
 new to yoga or advanced\, our instructor guides you through a harmonious y
 oga flow that integrates celestial influences\, enhancing your physical an
 d spiritual practice.\n 	Sound Healing Experience: Discover the healing po
 wer of sound as you lay back and absorb the resonant frequencies that prom
 ote relaxation\, stress reduction\, and inner peace.\n 	Beachside Setting:
  Enjoy the serene ambiance of Sagamore Hotel Beach\, where the soothing so
 unds of waves complement the tranquil atmosphere of your yoga and sound he
 aling experience.\n\nWhy Attend:\n\nThis session is perfect for anyone see
 king to unwind after a long day\, connect with inner peace\, and align the
 ir energies with the rhythms of nature and the cosmos. Whether you're look
 ing to deepen your yoga practice or explore the benefits of sound healing\
 , Sunset Yoga + Sound Healing at Sagamore Hotel Beach offers a unique oppo
 rtunity to nurture mind\, body\, and spirit.\n\nJoin us for an unforgettab
 le evening of cosmic alignment\, relaxation\, and inner harmony. Embrace t
 he healing power of yoga and sound amidst the picturesque setting of Sagam
 ore Hotel Beach. See you there!\n\nGET TICKETS\n
ATTACH;FMTTYPE=image/jpeg:https://breathemiami.us/wp-content/uploads/2024/
 06/Sunset-Beach-Yoga-Class.jpg
CATEGORIES:Mindfulness Events,Wellness Events,Yoga Events
LOCATION:Sagamore Hotel South Beach\, 1671 Collins Avenue Miami Beach\, Mia
 mi\, Florida\, 33139\,  FL \, United States
X-APPLE-STRUCTURED-LOCATION;VALUE=URI;X-ADDRESS=1671 Collins Avenue Miami B
 each\, Miami\, Florida\, 33139\,  FL \, United States;X-APPLE-RADIUS=100;X
 -TITLE=Sagamore Hotel South Beach:geo:0,0
END:VEVENT
BEGIN:VTIMEZONE
TZID:America/New_York
X-LIC-LOCATION:America/New_York
BEGIN:DAYLIGHT
DTSTART:20240310T030000
TZOFFSETFROM:-0500
TZOFFSETTO:-0400
TZNAME:EDT
END:DAYLIGHT
END:VTIMEZONE
END:VCALENDAR