BEGIN:VCALENDAR
VERSION:2.0
PRODID:-//wp-events-plugin.com//7.2.3.1//EN
TZID:America/New_York
X-WR-TIMEZONE:America/New_York
BEGIN:VEVENT
UID:723@breathemiami.us
DTSTART;TZID=America/New_York:20240823T070000
DTEND;TZID=America/New_York:20240823T200000
DTSTAMP:20240819T061914Z
URL:https://breathemiami.us/events/sunrise-beach-yoga/
SUMMARY:Sunrise Beach Yoga
DESCRIPTION:Start your day with a serene and uplifting experience at our be
 loved community event\, Sunrise Yoga in South Beach\, Miami. Join fellow y
 ogis at the 1st Street Lifeguard Stand as we gather to welcome the day wit
 h a rejuvenating yoga session.\nWhy Join Us?\nThis all-levels class is des
 igned to make Miami a more mindful and connected community. As the sun ris
 es over the Atlantic\, you’ll have the opportunity to immerse yourself i
 n the beauty of nature\, find inner peace\, and connect with like-minded i
 ndividuals. Whether you're a seasoned yogi or new to the practice\, this i
 s the perfect way to greet the day with intention and positivity.\nEvent D
 etails:\n\n 	Date &amp\; Time: Friday\, August 23rd at 7:00 AM\n 	Location
 : South Beach at 1st Street\, right by the iconic blue lifeguard stand. Fr
 ee parking is available until 9:00 AM in front of Nikki Beach—just a sho
 rt walk to our spot on the beach.\n 	What to Bring: Please bring a yoga ma
 t or beach towel to practice on. Don’t forget your water and sunscreen!\
 n\nImportant Notes:\n\n 	Contribution: A minimum donation of $10 per perso
 n is appreciated to support the continuation of this mindful gathering.\n 
 	Weather-Dependent: Please note that this event is weather-dependent. In t
 he case of inclement weather\, the event may be canceled\, and donations a
 re non-refundable.\n 	Community Responsibility: While we strive to create 
 a safe space for all\, Sunrise Yoga and April May Yoga are not responsible
  for any lost or stolen items.\n\nCome watch the sunrise\, breathe in the 
 fresh ocean air\, and set a positive tone for the rest of your day. Let’
 s create a more mindful Miami together!\n\nGET TICKETS\n
ATTACH;FMTTYPE=image/jpeg:https://breathemiami.us/wp-content/uploads/2024/
 08/Sunrise-Beach-Yoga.jpg
CATEGORIES:Mindfulness Events,Nature Events,Things To Do,Wellness
 Events,Yoga Events
LOCATION:South Beach & 1st Street Lifeguard Tower\, 1st Street Miami Beach\
 , Miami\, Florida\, 33139\,  FL \, United States
X-APPLE-STRUCTURED-LOCATION;VALUE=URI;X-ADDRESS=1st Street Miami Beach\, Mi
 ami\, Florida\, 33139\,  FL \, United States;X-APPLE-RADIUS=100;X-TITLE=So
 uth Beach & 1st Street Lifeguard Tower:geo:0,0
END:VEVENT
BEGIN:VTIMEZONE
TZID:America/New_York
X-LIC-LOCATION:America/New_York
BEGIN:DAYLIGHT
DTSTART:20240310T030000
TZOFFSETFROM:-0500
TZOFFSETTO:-0400
TZNAME:EDT
END:DAYLIGHT
END:VTIMEZONE
END:VCALENDAR