BEGIN:VCALENDAR
VERSION:2.0
PRODID:-//wp-events-plugin.com//7.2.3.1//EN
TZID:America/New_York
X-WR-TIMEZONE:America/New_York
BEGIN:VEVENT
UID:979@breathemiami.us
DTSTART;TZID=America/New_York:20241029T073000
DTEND;TZID=America/New_York:20241029T083000
DTSTAMP:20241003T101759Z
URL:https://breathemiami.us/events/sunrise-beach-yoga-with-sofia-sofyko_au
 m/
SUMMARY:SUNRISE BEACH YOGA WITH SOFIA @sofyko_aum
DESCRIPTION:\n\n\n\n\n\n\n\n\n\n\n\n\n\nSunrise Beach Yoga with Sofia offer
 s a tranquil and rejuvenating start to the day with a gentle Vinyasa Yoga 
 class for all levels. Every Tuesday at 7:30 AM\, Sofia guides participants
  through a mindful yoga practice\, set against the breathtaking backdrop o
 f the Miami Beach sunrise and the soothing sound of ocean waves. Held at S
 outh Pointe Beach near the Jetty Lifeguard Tower\, this is an opportunity 
 to connect with nature while enhancing your physical and mental well-being
 .\n\nParticipants are encouraged to bring their own yoga mat or towel\, an
 d free parking is available until 9 AM in front of Nikki Beach\, making it
  convenient for early risers to join the session.\n\nAbout the Teacher: So
 fia is a certified yoga instructor with Yoga Alliance USA and has a deep p
 assion for teaching. Originally from Moscow\, Russia\, Sofia earned a law 
 degree and spent years working in civil law before she embarked on a life-
 changing journey in 2017. That year\, she moved to India to receive tradit
 ional yoga training from experienced Indian teachers and practitioners. Ov
 er the years\, she traveled extensively through India\, Nepal\, Sri Lanka\
 , and Indonesia\, exploring different yoga styles and deepening her practi
 ce.\n\nNow based in Miami\, Sofia shares her wisdom with students worldwid
 e\, teaching Vinyasa\, Hatha\, Power\, and Slow Flow Yoga in both private 
 and group settings. She also leads group classes at Freedom Fitness. Her t
 eaching style is rooted in a blend of traditional practices and modern tec
 hniques\, making yoga accessible and beneficial for practitioners at any l
 evel.\n\nStay connected with Sofia on Instagram @sofyko_aum for updates on
  classes and events. You can also visit her website Sofia Aum Yoga to lear
 n more or follow her YouTube channel\, Sofia Aum Yoga\, for free online yo
 ga sessions.\n\nFor a refreshing and grounding start to your day\, join So
 fia’s Sunrise Beach Yoga class and experience the balance and peace that
  comes from practicing yoga by the sea.\n\n\n\n\n\n\n\n\n\n\n\n\n\n\n\n\n\
 n\n\n\n\n\n\n\n\n\n\n\n\n\n\n\n\nGET TICKETS\n
ATTACH;FMTTYPE=image/jpeg:https://breathemiami.us/wp-content/uploads/2024/
 10/SUNRISE-BEACH-YOGA-WITH-SOFIA-@sofyko_aum.jpg
CATEGORIES:Yoga Events
LOCATION:Jetty Lifeguard Tower\, Miami Beach Dr\, Miami Beach\, Florida\, 3
 3139\, FL\, United States
X-APPLE-STRUCTURED-LOCATION;VALUE=URI;X-ADDRESS=Miami Beach Dr\, Miami Beac
 h\, Florida\, 33139\, FL\, United States;X-APPLE-RADIUS=100;X-TITLE=Jetty 
 Lifeguard Tower:geo:0,0
END:VEVENT
BEGIN:VTIMEZONE
TZID:America/New_York
X-LIC-LOCATION:America/New_York
BEGIN:DAYLIGHT
DTSTART:20240310T030000
TZOFFSETFROM:-0500
TZOFFSETTO:-0400
TZNAME:EDT
END:DAYLIGHT
END:VTIMEZONE
END:VCALENDAR