BEGIN:VCALENDAR
VERSION:2.0
PRODID:-//wp-events-plugin.com//7.2.3.1//EN
TZID:America/New_York
X-WR-TIMEZONE:America/New_York
BEGIN:VEVENT
UID:1054@breathemiami.us
DTSTART;TZID=America/New_York:20241025T193000
DTEND;TZID=America/New_York:20241025T203000
DTSTAMP:20241013T074044Z
URL:https://breathemiami.us/events/sunrise-beach-yoga-club-alo-10-25-24/
SUMMARY:Sunrise Beach Yoga + Club Alo 10/25/24
DESCRIPTION:Join us for Sunrise Beach Recovery Yoga led by April May\, in p
 artnership with Club Alo\, on October 25\, 2024! This inclusive\, all-leve
 ls yoga class is designed to cultivate mindfulness in the heart of Miami w
 hile connecting participants with the beauty of nature and the soothing so
 unds of the ocean.\n\nAs the sun rises\, attendees will gather at South Be
 ach\, near the blue lifeguard tower at 1st Street. Participants can look f
 orward to a refreshing start to their day\, taking in the breathtaking sun
 rise while practicing yoga and fostering new friendships. This session not
  only offers physical benefits but also encourages mental well-being\, mak
 ing it a perfect way to embrace the day ahead.\n\nThe first attendees will
  receive complimentary Alo goodies\, creating an added incentive to arrive
  early.\n\nEvent Details:\n\n 	When: Friday\, October 25\, 2024\, from 7:3
 0 AM to 8:30 AM\n 	Where: South Beach\, at the intersection of 1st Street 
 and the blue lifeguard tower. Free parking is available in front of Nikki 
 Beach until 9 AM\; simply walk around the beach to reach the yoga gatherin
 g.\n\nWhat to Bring: Participants are encouraged to bring a yoga mat or be
 ach towel to enhance their practice on the sandy shoreline.\n\nDon’t mis
 s this chance to rejuvenate your body and spirit while enjoying the serene
  beauty of Miami’s coastline. Gather your friends and join this upliftin
 g community experience at Sunrise Beach Yoga + Club Alo!\n\nGET TICKETS\n
ATTACH;FMTTYPE=image/jpeg:https://breathemiami.us/wp-content/uploads/2024/
 10/Sunrise-Beach-Yoga-Club-Alo.jpg
CATEGORIES:Retreats Events,Things To Do,Wellness Events,Yoga Events
LOCATION:South Beach & 1st Street Lifeguard Tower\, 1st Street Miami Beach\
 , Miami\, Florida\, 33139\, FL\, United States
X-APPLE-STRUCTURED-LOCATION;VALUE=URI;X-ADDRESS=1st Street Miami Beach\, Mi
 ami\, Florida\, 33139\, FL\, United States;X-APPLE-RADIUS=100;X-TITLE=Sout
 h Beach & 1st Street Lifeguard Tower:geo:0,0
END:VEVENT
BEGIN:VTIMEZONE
TZID:America/New_York
X-LIC-LOCATION:America/New_York
BEGIN:DAYLIGHT
DTSTART:20240310T030000
TZOFFSETFROM:-0500
TZOFFSETTO:-0400
TZNAME:EDT
END:DAYLIGHT
END:VTIMEZONE
END:VCALENDAR