BEGIN:VCALENDAR
VERSION:2.0
PRODID:-//wp-events-plugin.com//7.2.3.1//EN
TZID:America/New_York
X-WR-TIMEZONE:America/New_York
BEGIN:VEVENT
UID:955@breathemiami.us
DTSTART;TZID=America/New_York:20241027T120000
DTEND;TZID=America/New_York:20241027T130000
DTSTAMP:20241002T165747Z
URL:https://breathemiami.us/events/sunday-service-restore-yoga-with-allisu
 n/
SUMMARY:Sunday Service Restore Yoga with Allisun
DESCRIPTION:Join Sunday Service Restore Yoga with Allisun\, an inviting and
  inclusive class that goes beyond traditional yoga postures to focus on au
 thentic movement and intentional guidance. This rejuvenating session integ
 rates asana with frequency activation\, creating a holistic experience des
 igned to nourish both body and mind.\n\nOpen to all ages\, the class welco
 mes everyone—whether you're coming solo\, with a friend\, or bringing yo
 ur children. It's a perfect opportunity to unwind\, connect with your inne
 r self\, and restore your energy in a peaceful\, supportive environment. A
 llisun's gentle approach ensures that participants feel guided and grounde
 d\, making this class ideal for yogis of all levels.\n\nWhile yoga props a
 re encouraged\, they are not required. If you have them\, bring along a yo
 ga mat\, bolster\, two blocks\, and a strap to enhance your practice. Stay
  connected and up to date with class changes by joining our WhatsApp group
 : Join here.\n\nBring yourself just as you are\, and prepare for a transfo
 rmative Sunday experience. 🌞\n\nGET TICKETS\n
ATTACH;FMTTYPE=image/jpeg:https://breathemiami.us/wp-content/uploads/2024/
 10/Sunday-Service-Restore-Yoga-with-Allisun.jpg
CATEGORIES:Yoga Events
LOCATION:8843 SW 132nd St\, 8843 Southwest 132nd Street Miami\, Miami\, Flo
 rida\, 33176\, FL\, United States
X-APPLE-STRUCTURED-LOCATION;VALUE=URI;X-ADDRESS=8843 Southwest 132nd Street
  Miami\, Miami\, Florida\, 33176\, FL\, United States;X-APPLE-RADIUS=100;X
 -TITLE=8843 SW 132nd St:geo:0,0
END:VEVENT
BEGIN:VTIMEZONE
TZID:America/New_York
X-LIC-LOCATION:America/New_York
BEGIN:DAYLIGHT
DTSTART:20240310T030000
TZOFFSETFROM:-0500
TZOFFSETTO:-0400
TZNAME:EDT
END:DAYLIGHT
END:VTIMEZONE
END:VCALENDAR