BEGIN:VCALENDAR
VERSION:2.0
PRODID:-//wp-events-plugin.com//7.2.3.1//EN
TZID:America/New_York
X-WR-TIMEZONE:America/New_York
BEGIN:VEVENT
UID:1176@breathemiami.us
DTSTART;TZID=America/New_York:20241124T070000
DTEND;TZID=America/New_York:20241124T084500
DTSTAMP:20241023T165553Z
URL:https://breathemiami.us/events/sunday-morning-resetness-gentle-yoga-me
 ditation-journaling-sound-bath/
SUMMARY:Sunday Morning ResetNESS: Gentle Yoga\, Meditation\, Journaling & S
 ound Bath
DESCRIPTION:Nesli invites participants to a tranquil Sunday morning experie
 nce aimed at reflection and rejuvenation for the upcoming week. The event 
 begins with energy-awakening tapping and breathwork\, leading into gentle 
 yoga to foster a deeper connection with the body. Following the yoga sessi
 on\, attendees will engage in a guided journaling exercise featuring thoug
 htful prompts to reflect on the past week and set clear intentions for the
  days ahead. The morning concludes with a soothing sound bath\, where calm
 ing vibrations help participants reset and recharge.\n\nThis complimentary
  event encourages a suggested donation of $25 to support ongoing sessions\
 , welcoming everyone interested in attending. An RSVP is required to confi
 rm attendance\; if no one signs up\, the event will be canceled.\n\nWhat t
 o Bring:\n\n 	A towel or yoga mat\n 	Comfortable\, loose-fitting clothing 
 suitable for yoga\n 	Water for hydration\n 	Swimwear (bikini\, shorts) if 
 you wish to swim afterward—it's invigorating!\n 	A journal and pen (addi
 tional journals will be available to share)\n\nImportant Details:\n\n 	Loc
 ation: 79th Street (please check the map for precise directions).\n 	Inqui
 ries or Private Sessions: Text Nesli at 646-494-2866.\n 	Cancellations: Th
 e event will be canceled if no one RSVPs in advance. Please confirm your a
 ttendance via text\, as last-minute walk-ins cannot be accommodated.\n\nAd
 ditional Offer: Participants can try the WellNESS subscription for free by
  visiting nesli.tv/freetrial.\n\nTerms and Conditions:\n\n 	Acceptance of 
 Terms: Purchasing a ticket signifies acceptance of the event's terms.\n 	H
 ealth and Safety: Attendees are responsible for their own health and safet
 y. Nesli does not assume liability for any health issues or injuries that 
 may arise from participation. It is advisable to consult a healthcare prof
 essional with any concerns before attending.\n 	Liability Waiver: By atten
 ding\, participants waive any claims against the organizer for injuries or
  damages incurred during the event.\n 	Rain Policy: Should rain occur\, th
 e event will be rescheduled. No refunds will be issued. If there is over a
  50% chance of rain one hour before the event\, it will be postponed\, wit
 h tickets honored for the new date.\n\nNesli looks forward to sharing this
  enriching morning\, inviting everyone to embrace the vast potential of mi
 nd\, body\, and soul.\n\nGET TICKETS\n
ATTACH;FMTTYPE=image/jpeg:https://breathemiami.us/wp-content/uploads/2024/
 10/Sunday-Morning-ResetNESS-Gentle-Yoga-Meditation-Journaling-Sound-Bath.j
 pg
CATEGORIES:Wellness Events
LOCATION:North Shore Park Beach\, 79th Street\, Miami-Dade County\, FL\, 33
 140\, FL\, United States
X-APPLE-STRUCTURED-LOCATION;VALUE=URI;X-ADDRESS=79th Street\, Miami-Dade Co
 unty\, FL\, 33140\, FL\, United States;X-APPLE-RADIUS=100;X-TITLE=North Sh
 ore Park Beach:geo:0,0
END:VEVENT
BEGIN:VTIMEZONE
TZID:America/New_York
X-LIC-LOCATION:America/New_York
BEGIN:STANDARD
DTSTART:20241103T010000
TZOFFSETFROM:-0400
TZOFFSETTO:-0500
TZNAME:EST
END:STANDARD
END:VTIMEZONE
END:VCALENDAR