BEGIN:VCALENDAR
VERSION:2.0
PRODID:-//wp-events-plugin.com//7.2.3.1//EN
TZID:America/New_York
X-WR-TIMEZONE:America/New_York
BEGIN:VEVENT
UID:53@breathemiami.us
DTSTART;TZID=America/New_York:20230917T100000
DTEND;TZID=America/New_York:20230917T130000
DTSTAMP:20240908T160625Z
URL:https://breathemiami.us/events/sunday-flow-ice-bath-edition/
SUMMARY:Sunday Flow Ice Bath Edition
DESCRIPTION:Modern ŌM Co-Presents: OUTDOOR YOGA &amp\; ICE BATH\nModern Ō
 M Co-Presents:\nWe are excited to invite you to Leom's upcoming yoga and i
 ce bath event\, taking place this Sunday. Come and experience a truly tran
 sformative journey with us.\n\nWe will begin with a dynamic and uplifting 
 yoga class\, designed to get your body moving\, stretch your muscles and h
 elp you find your inner peace. The class will be suitable for all levels\,
  from beginners to advanced practitioners.\n\nAfter the yoga class\, we wi
 ll move on to the ice bath. This may sound daunting\, but trust me\, it is
  an incredibly refreshing and invigorating experience that you won't want 
 to miss. You will be guided through the process to ensure that you stay sa
 fe and comfortable.\n\nNo experience is necessary\, and all equipment will
  be provided. All you need to bring is a towel\, a change of clothes\, and
  an open mind!\n\nThis ancient therapy has been used for centuries to help
  reduce inflammation\, boost circulation\, and promote overall wellness.\n
 \nWe can't wait to share this unique experience with you\, and we hope to 
 see you there!\n\nNamaste\,\n\nGET TICKETS\n\n&nbsp\;\nWho:\nLeom has dedi
 cated part of his life to helping others experience a free\, expansive\, a
 nd unencumbered life\, by integrating numerous healing modalities such as 
 sound therapy\, guided meditation\, breath-work\, and yoga. His motivation
  is to raise everyone’s vibration for the healing energy we all carry in
 side\, to come out with all the information necessary for the body to be w
 hole\, healed\, and well.\nTickets:\nRegistration is Early Bird or General
  Admission\nExclusive Rates for Members:\nClick to explore the benefits an
 d join a plan.\n\n10% off this session with ŌMIE PLAN ($49 per year)\n10%
  off this session with PRACTICE PLAN ($99 per month)\nThis session is incl
 uded with ACCESS PLAN ($199 per month)\nMindful Miles™️:\nThis session
  is worth ❶ Mindful Mile (MM) --&gt\; get rewarded for your spiritual pr
 actice. All Members are enrolled into our “frequent flier” program for
  our Miami events.\n\n 	Every 10MM you earn\, receive a reward to celebrat
 e your practice\n 	Every 25MM you earn\, receive a MM status upgrade\, whi
 ch comes with valuable perks\n\nOnline Resources:\nIf you cannot join us i
 n person\, we have the following online resources available.\n\n 	Modern M
 edi Club - a friendly donation-based online meditation studio with classes
  daily at 8am\, 10am\, and 8pm. This online studio is FREE to join and can
  be joined separately from Miami plans.\n 	Cushion Crawl On Demand - 500 v
 ideos that were recorded over a period of 3 years by 120+ world-class faci
 litators. Access to this Content Library is given with all Miami plans.\n\
 nFollow us: Instagram | TikTok | Miami Telegram\nABOUT MODERN ŌM\nModern 
 ŌM has been connecting community to world-class spiritual wellness progr
 ams since 2016. Our offerings include 30+ Miami event monthly\, retreats\,
  trainings\, online meditations via the Modern Medi Club\, and branded mer
 chandise.\n\nConsider us your resource for spiritual wellness. We support 
 an ever-evolving community of entrepreneurs\, professionals\, and creative
 s that prioritize their spiritual well-being. Join us in Miami and beyond.
 \nCOMMUNITY PRAISE\n"I love the community\, I love the vibe of Modern ŌM!
 !" - Seema\n\n"I highly recommend this membership - you will not regret it
 !" - Nadine\n\n“You can really tell Modern ŌM truly truly cares about i
 ts community and the conscious evolution of its members. Thank you!” - A
 lessandra\nPHOTO WAIVER\nPhotography: The Participant understands and ackn
 owledges that he or she may be photographed or recorded during the Event\,
  either individually or among other participants\, and that any and all ph
 otographs\, motion pictures\, recordings\, and/or likenesses of the partic
 ipants captured during the Event (“Media”) by Modern ŌM\, Inc and it
 s affiliated entities or contractors are the sole property of Modern ŌM\
 , Inc. The Participant grants to Modern ŌM\, Inc and its designees and l
 icensees the right\, permission\, and authority to use the Media for any l
 egitimate purpose\, including\, but not limited to\, for promoting\, adver
 tising\, marketing\, and other commercial activities. The Participant will
  not photograph\, video\, or otherwise record any aspect of the Event.\n\n
 \n\n
ATTACH;FMTTYPE=image/jpeg:https://breathemiami.us/wp-content/uploads/2023/
 09/sunday-flow-ice-bath-edition-featured.jpeg
CATEGORIES:Mindfulness Events,Things To Do,Wellness Events,Yoga Events
LOCATION:El Portal\, 901 NE 91st Terr\, Miami\, FL\, 33138\, United States
X-APPLE-STRUCTURED-LOCATION;VALUE=URI;X-ADDRESS=901 NE 91st Terr\, Miami\, 
 FL\, 33138\, United States;X-APPLE-RADIUS=100;X-TITLE=El Portal:geo:0,0
END:VEVENT
BEGIN:VTIMEZONE
TZID:America/New_York
X-LIC-LOCATION:America/New_York
BEGIN:DAYLIGHT
DTSTART:20230312T030000
TZOFFSETFROM:-0500
TZOFFSETTO:-0400
TZNAME:EDT
END:DAYLIGHT
END:VTIMEZONE
END:VCALENDAR