BEGIN:VCALENDAR
VERSION:2.0
PRODID:-//wp-events-plugin.com//7.2.3.1//EN
TZID:America/New_York
X-WR-TIMEZONE:America/New_York
BEGIN:VEVENT
UID:667@breathemiami.us
DTSTART;TZID=America/New_York:20240818T113000
DTEND;TZID=America/New_York:20240818T143000
DTSTAMP:20240804T124916Z
URL:https://breathemiami.us/events/sunday-flow-august/
SUMMARY:SUNDAY FLOW AUGUST
DESCRIPTION:This Sunday\, Sacred Space Miami invites individuals seeking re
 juvenation and balance to join a transformative experience known as Sunday
  Flow. This event offers a harmonious blend of uplifting yoga\, invigorati
 ng ice baths\, and a supportive community atmosphere\, designed to help pa
 rticipants reclaim their energy and well-being.\n\nEvent Details:\n\nDate 
 and Time: Sunday Location: Sacred Space Miami\n\nParticipants are encourag
 ed to bring the following:\n\n 	A towel\n 	A change of clothes\n 	An open 
 mind and an open heart\n\nThe event will commence with a dynamic and uplif
 ting 60-minute yoga class\, followed by a 20-minute breathwork session. Th
 is combination aims to invigorate the body\, stretch muscles\, and foster 
 inner peace. The yoga session is accessible to all levels\, from beginners
  to advanced practitioners.\n\nFollowing the yoga practice\, attendees wil
 l have the opportunity to experience the Ice Bath. While it may seem intim
 idating at first\, this ancient therapy is renowned for its ability to red
 uce inflammation\, boost circulation\, enhance mood\, and promote overall 
 wellness. Participants will be guided through the process to ensure safety
  and comfort\, making it a refreshing and invigorating experience not to b
 e missed.\n\nNo prior experience is necessary for any part of the event.\n
 \nSacred Space Miami eagerly anticipates sharing this unique and transform
 ative journey with the community. Attendees will leave feeling balanced\, 
 energized\, and ready to embrace their best selves.\n\nGET TICKETS\n
ATTACH;FMTTYPE=image/jpeg:https://breathemiami.us/wp-content/uploads/2024/
 08/SUNDAY-FLOW-AUGUST.jpg
CATEGORIES:Mindfulness Events,Things To Do,Wellness Events,Yoga Events
LOCATION:Palapa\, 5040 Northeast 2nd Avenue\, Miami\, FL\, 33137\, United S
 tates
X-APPLE-STRUCTURED-LOCATION;VALUE=URI;X-ADDRESS=5040 Northeast 2nd Avenue\,
  Miami\, FL\, 33137\, United States;X-APPLE-RADIUS=100;X-TITLE=Palapa:geo:
 0,0
END:VEVENT
BEGIN:VTIMEZONE
TZID:America/New_York
X-LIC-LOCATION:America/New_York
BEGIN:DAYLIGHT
DTSTART:20240310T030000
TZOFFSETFROM:-0500
TZOFFSETTO:-0400
TZNAME:EDT
END:DAYLIGHT
END:VTIMEZONE
END:VCALENDAR