BEGIN:VCALENDAR
VERSION:2.0
PRODID:-//wp-events-plugin.com//7.2.3.1//EN
TZID:America/New_York
X-WR-TIMEZONE:America/New_York
BEGIN:VEVENT
UID:962@breathemiami.us
DTSTART;TZID=America/New_York:20241027T103000
DTEND;TZID=America/New_York:20241027T113000
DTSTAMP:20241002T223513Z
URL:https://breathemiami.us/events/summer-beach-ocean-flexibility-fusion-s
 tretch-and-strengthen/
SUMMARY:Summer Beach Ocean Flexibility Fusion: Stretch and Strengthen
DESCRIPTION:\n\n\n\n\nThe Summer Beach Ocean Flexibility Fusion: Stretch an
 d Strengthen class offers a unique blend of stretching and strengthening e
 xercises set against the serene backdrop of the ocean. This invigorating s
 ession\, held right on the beach\, focuses on enhancing flexibility\, impr
 oving range of motion\, and building core strength\, all while taking in t
 he natural healing energy of the ocean.\n\nParticipants will be guided thr
 ough a series of dynamic movements designed to stretch and tone the body\,
  with each exercise carefully crafted to maximize the benefits of practici
 ng by the water. The rhythmic sound of the waves and the fresh ocean breez
 e create a calming atmosphere\, allowing participants to fully immerse the
 mselves in the experience\, leaving both body and mind revitalized.\n\nThi
 s beachside fusion class not only targets physical fitness but also promot
 es mental relaxation and rejuvenation\, making it a perfect way to reset a
 nd recharge. Participants will finish the class feeling flexible\, stronge
 r\, and refreshed\, carrying the peaceful energy of the ocean with them th
 roughout the day.\n\n\n\n\n\n\nGET TICKETS\n
ATTACH;FMTTYPE=image/jpeg:https://breathemiami.us/wp-content/uploads/2024/
 10/Summer-Beach-Ocean-Flexibility-Fusion-Stretch-and-Strengthen.jpg
CATEGORIES:Wellness Events
LOCATION:Tower 26 Ocean Swim Short Term Parking Lot\, Tower 26 Ocean Swim S
 hort Term Parking Lot\, Santa Monica\, California\, 90405\, CA\, United St
 ates
X-APPLE-STRUCTURED-LOCATION;VALUE=URI;X-ADDRESS=Tower 26 Ocean Swim Short T
 erm Parking Lot\, Santa Monica\, California\, 90405\, CA\, United States;X
 -APPLE-RADIUS=100;X-TITLE=Tower 26 Ocean Swim Short Term Parking Lot:geo:0
 ,0
END:VEVENT
BEGIN:VTIMEZONE
TZID:America/New_York
X-LIC-LOCATION:America/New_York
BEGIN:DAYLIGHT
DTSTART:20240310T030000
TZOFFSETFROM:-0500
TZOFFSETTO:-0400
TZNAME:EDT
END:DAYLIGHT
END:VTIMEZONE
END:VCALENDAR