BEGIN:VCALENDAR
VERSION:2.0
PRODID:-//wp-events-plugin.com//7.2.3.1//EN
TZID:America/New_York
X-WR-TIMEZONE:America/New_York
BEGIN:VEVENT
UID:1132@breathemiami.us
DTSTART;TZID=America/New_York:20241127T210000
DTEND;TZID=America/New_York:20241128T013000
DTSTAMP:20241023T063343Z
URL:https://breathemiami.us/events/strings-at-kuba-cabana-a-thanksgiving-e
 ve-soiree/
SUMMARY:Strings at Kuba Cabana: A Thanksgiving Eve Soirée
DESCRIPTION:Get ready for an unforgettable evening of live music and vibran
 t energy at Kuba Cabana's Thanksgiving Eve Soirée! This exciting event in
 vites guests to immerse themselves in the captivating sounds of talented m
 usicians while savoring a selection of delicious drinks and mouthwatering 
 bites.\n\nAs the holiday season approaches\, this soirée provides the per
 fect opportunity to gather with friends and loved ones for a pre-Thanksgiv
 ing celebration. Attendees can look forward to an atmosphere filled with g
 ood vibes\, allowing everyone to unwind and enjoy the festive spirit.\n\nW
 hether you’re seeking an exhilarating night out or a way to kick off you
 r Thanksgiving festivities\, Strings at Kuba Cabana promises to be the ide
 al destination. Don’t miss the chance to experience exceptional live per
 formances and connect with great company as you welcome the holiday season
 .\n\nMark your calendar and prepare for a night of music\, laughter\, and 
 celebration. The team at Kuba Cabana looks forward to seeing everyone ther
 e for a memorable Thanksgiving Eve filled with joy and camaraderie!\n\nGET
  TICKETS\n
ATTACH;FMTTYPE=image/jpeg:https://breathemiami.us/wp-content/uploads/2024/
 10/Strings-at-Kuba-Cabana-a-Thanksgiving-Eve-Soiree.jpg
CATEGORIES:Food &amp; Drink Events,Things To Do
LOCATION:Kuba Cabana\, 3450 Northwest 83rd Avenue ##140 Doral\, Miami\, Flo
 rida\, 33122\,  FL \, United States
X-APPLE-STRUCTURED-LOCATION;VALUE=URI;X-ADDRESS=3450 Northwest 83rd Avenue 
 ##140 Doral\, Miami\, Florida\, 33122\,  FL \, United States;X-APPLE-RADIU
 S=100;X-TITLE=Kuba Cabana:geo:0,0
END:VEVENT
BEGIN:VTIMEZONE
TZID:America/New_York
X-LIC-LOCATION:America/New_York
BEGIN:STANDARD
DTSTART:20241103T010000
TZOFFSETFROM:-0400
TZOFFSETTO:-0500
TZNAME:EST
END:STANDARD
END:VTIMEZONE
END:VCALENDAR