BEGIN:VCALENDAR
VERSION:2.0
PRODID:-//wp-events-plugin.com//7.2.3.1//EN
TZID:America/New_York
X-WR-TIMEZONE:America/New_York
BEGIN:VEVENT
UID:476@breathemiami.us
DTSTART;TZID=America/New_York:20240511T090000
DTEND;TZID=America/New_York:20240511T100000
DTSTAMP:20240505T204408Z
URL:https://breathemiami.us/events/stretch-strengthen/
SUMMARY:Stretch & Strengthen
DESCRIPTION:\nStretch\, Strengthen\, and Rejuvenate! Join Myocise Wellness'
  Saturday Special!\nCalling all fitness enthusiasts and newcomers alike! M
 yocise Wellness invites you to their Stretch and Strengthen Saturday class
 \, featuring an invigorating bonus of Massage Gun therapy!\nEnhance Your W
 ell-Being:\n\n\n 	Boost Flexibility &amp\; Strength: This dynamic class is
  designed to improve your flexibility and strengthen your muscles\, regard
 less of your fitness level. Leave feeling energized and rejuvenated.\n 	Se
 rene &amp\; Welcoming Environment: Myocise Wellness provides a peaceful an
 d inviting space for you to focus on your well-being. Unwind and prioritiz
 e your self-care in this calming atmosphere.\n 	Massage Gun Therapy Bonus:
  Experience the added benefits of Massage Gun therapy\, helping to further
  relax muscles and enhance recovery.\n\nMore Than Just a Class:\n\n\n 	Goo
 die Bags &amp\; Raffle: The fun doesn't stop there! Enjoy goodie bags and 
 participate in a raffle for additional wellness treats.\n 	Limited Spots A
 vailable: Don't miss out! Reserve your spot today for this unique opportun
 ity.\n\nEmbrace Your Fitness Journey:\nJoin Myocise Wellness for their Str
 etch and Strengthen Saturday class. It's the perfect chance to improve you
 r flexibility\, build strength\, and experience the rejuvenating effects o
 f Massage Gun therapy. This class is a fantastic way to kick-off your week
 end on a healthy and empowering note!\nHere's the information you need:\n\
 n\n 	Location: 4801 S. University Drive\, Suite 106\, Davie\, Florida\, 33
 328\n 	Limited Spots Available: Reserve yours today!\n\nMyocise Wellness l
 ooks forward to helping you achieve your wellness goals!\n\n\n\nBOOK SPOTS
 \n
ATTACH;FMTTYPE=image/jpeg:https://breathemiami.us/wp-content/uploads/2024/
 05/https___cdn.evbuc_.com_images_664714839_1917566003443_1_original.jpg
CATEGORIES:Wellness Events
LOCATION:Myocise Wellness Center\, 4801 South University Drive Suite 106\, 
 Davie\, Florida\, 33328\, United States
X-APPLE-STRUCTURED-LOCATION;VALUE=URI;X-ADDRESS=4801 South University Drive
  Suite 106\, Davie\, Florida\, 33328\, United States;X-APPLE-RADIUS=100;X-
 TITLE=Myocise Wellness Center:geo:0,0
END:VEVENT
BEGIN:VTIMEZONE
TZID:America/New_York
X-LIC-LOCATION:America/New_York
BEGIN:DAYLIGHT
DTSTART:20240310T030000
TZOFFSETFROM:-0500
TZOFFSETTO:-0400
TZNAME:EDT
END:DAYLIGHT
END:VTIMEZONE
END:VCALENDAR