BEGIN:VCALENDAR
VERSION:2.0
PRODID:-//wp-events-plugin.com//7.2.3.1//EN
TZID:America/New_York
X-WR-TIMEZONE:America/New_York
BEGIN:VEVENT
UID:449@breathemiami.us
DTSTART;TZID=America/New_York:20240427T090000
DTEND;TZID=America/New_York:20240427T210000
DTSTAMP:20240426T010634Z
URL:https://breathemiami.us/events/stress-management-workshop-retreat/
SUMMARY:Stress Management Workshop & Retreat
DESCRIPTION:Escape to wellness! Tierra Santa Presents and Modern OM invite 
 you to a one-day Stress Management workshop led by experts Julia Smila and
  Agustina Caminos. Experience the luxurious Faena Hotel\, Miami Beach as y
 ou learn powerful stress-busting techniques and rediscover inner harmony.\
 nThis transformative workshop will help you:\n\n\n 	Understand how stress 
 affects your body\, mind\, and spirit.\n 	Identify the stressors in your l
 ife and develop effective strategies to manage them.\n 	Embrace holistic s
 elf-care practices for optimal wellbeing.\n\nPlus\, enjoy exclusive access
  to the Faena's incredible wellness facilities (sauna\, steam room\, hamma
 m) for a complete day of rejuvenation.\nYour Guides:\n\n\n 	Julia Smila ("
 The Health Detective") is dedicated to uncovering root causes of health is
 sues and promoting natural healing.\n 	Agustina Caminos\, Wellness Directo
 r for Faena Group\, is a Pranic Healing instructor\, spiritual guide\, and
  expert in yoga and alternative medicine.\n\nLogistics:\n\n\n 	Where: Faen
 a Hotel\, Miami Beach (3rd floor)\n 	Parking: Valet at Faena or nearby mun
 icipal lot\n 	What to Bring: Towel/blanket\, water bottle\, and an open mi
 nd!\n 	Tickets: Pay-what-you-wish (suggested $25)\n\nAbout Tierra Santa He
 aling House: Experience this 22\,000-square-foot wellness sanctuary at the
  Faena Hotel\, renowned for its expansive hammam\, unique healing rituals\
 , and advanced skincare treatments.\nQuestions? Contact Tierra Santa Heali
 ng House at 786-655-5570.
ATTACH;FMTTYPE=image/jpeg:https://breathemiami.us/wp-content/uploads/2024/
 04/https___cdn.evbuc_.com_images_740579209_1145507310493_1_original.jpg
CATEGORIES:Mindfulness Events,Retreats Events,Things To Do
LOCATION:Faena Hotel\, 3201 Collins Avenue\, Miami Beach\, FL\, 33140\, Uni
 ted States
X-APPLE-STRUCTURED-LOCATION;VALUE=URI;X-ADDRESS=3201 Collins Avenue\, Miami
  Beach\, FL\, 33140\, United States;X-APPLE-RADIUS=100;X-TITLE=Faena Hotel
 :geo:0,0
END:VEVENT
BEGIN:VTIMEZONE
TZID:America/New_York
X-LIC-LOCATION:America/New_York
BEGIN:DAYLIGHT
DTSTART:20240310T030000
TZOFFSETFROM:-0500
TZOFFSETTO:-0400
TZNAME:EDT
END:DAYLIGHT
END:VTIMEZONE
END:VCALENDAR