BEGIN:VCALENDAR
VERSION:2.0
PRODID:-//wp-events-plugin.com//7.2.3.1//EN
TZID:America/New_York
X-WR-TIMEZONE:America/New_York
BEGIN:VEVENT
UID:577@breathemiami.us
DTSTART;TZID=America/New_York:20240727T090000
DTEND;TZID=America/New_York:20240727T210000
DTSTAMP:20240624T054753Z
URL:https://breathemiami.us/events/stress-management-practical-workshop-re
 treat/
SUMMARY:Stress Management\, Practical Workshop & Retreat
DESCRIPTION:Escape the hustle and bustle for a transformative one-day pract
 ical workshop on Stress Management at the luxurious FAENA Hotel\, Miami Be
 ach. This retreat offers an unparalleled opportunity to unwind\, recharge\
 , and rediscover your inner harmony.\n\nEvent Overview:\n\nImmerse yoursel
 f in powerful practices designed to help you manage stress effectively\, e
 mbarking on a holistic journey of self-care and balance. You are designed 
 to operate at your optimal potential\, and our workshop aims to eliminate 
 obstacles that hinder this by alleviating all forms of stress. Empower you
 r innate intelligence to naturally heal and rejuvenate your body\, enablin
 g you to thrive.\n\nWorkshop Highlights:\n\n 	Holistic Health Lecture: Eng
 age in an enlightening session on Holistic Health and the Stress Response 
 System. This comprehensive lecture covers all realms - Spirit\, Emotion\, 
 Mind\, and Body\, equipping you with the knowledge to identify and manage 
 various internal and external stressors.\n 	Understanding Stressors: Delve
  into the intricacies of different stressors\, understanding their impacts
  on your physical\, emotional\, mental\, and spiritual well-being. Learn a
 bout toxins\, energy disruptors\, and other environmental factors\, and ex
 plore highly effective strategies for managing them.\n 	Practical Stress M
 anagement: Participate in hands-on activities tailored to help you manage 
 stress effectively. These practices are designed to facilitate a holistic 
 journey of self-care\, balance\, and rejuvenation\, removing obstacles tha
 t hinder your optimal potential.\n\nExclusive Amenities:\n\nAttendees will
  have exclusive access to Faena's state-of-the-art wellness facilities\, i
 ncluding the sauna\, steam room\, and hammam. These amenities provide the 
 perfect complement to the day's activities\, offering opportunities for de
 toxification\, rejuvenation\, and sensory renewal.\n\nBenefits of Attendin
 g:\n\n 	Recharge and Rejuvenate: Unwind and recharge in the luxurious ambi
 ance of FAENA Hotel\, rediscovering your inner harmony.\n 	Holistic Well-B
 eing: Gain comprehensive knowledge of holistic health\, learning to manage
  stress across all realms of your being.\n 	Effective Stress Management: E
 quip yourself with practical tools and strategies to manage stress effecti
 vely\, empowering your body's natural healing abilities.\n 	Exclusive Well
 ness Access: Enjoy access to top-tier wellness facilities\, enhancing your
  retreat experience with detoxification and rejuvenation opportunities.\n\
 nWho Should Attend:\n\nThis workshop is perfect for anyone seeking to mana
 ge stress more effectively\, improve their overall well-being\, and embark
  on a holistic journey of self-care. Whether you are a busy professional\,
  a wellness enthusiast\, or simply looking to improve your quality of life
 \, this retreat offers valuable insights and practical tools to help you t
 hrive.\n\nReserve Your Spot:\n\nSpaces are limited\, so don't miss out on 
 this unique opportunity to transform your stress management approach. Rese
 rve your spot today and take the first step towards greater well-being and
  vitality.\n\nJoin us at the FAENA Hotel\, Miami Beach\, for a day of enli
 ghtenment\, relaxation\, and rejuvenation. Rediscover your inner harmony a
 nd empower your innate potential. We can't wait to see you there!\n\nGET T
 ICKETS\n
ATTACH;FMTTYPE=image/jpeg:https://breathemiami.us/wp-content/uploads/2024/
 06/Stress-Management-Practical-Workshop-Retreat-at-FAENA-Hotel-Miami-Beach
 .jpg
CATEGORIES:Mindfulness Events,Retreats Events,Wellness Events
LOCATION:Faena Hotel\, 3201 Collins Avenue\, Miami Beach\, FL\, 33140\, Uni
 ted States
X-APPLE-STRUCTURED-LOCATION;VALUE=URI;X-ADDRESS=3201 Collins Avenue\, Miami
  Beach\, FL\, 33140\, United States;X-APPLE-RADIUS=100;X-TITLE=Faena Hotel
 :geo:0,0
END:VEVENT
BEGIN:VTIMEZONE
TZID:America/New_York
X-LIC-LOCATION:America/New_York
BEGIN:DAYLIGHT
DTSTART:20240310T030000
TZOFFSETFROM:-0500
TZOFFSETTO:-0400
TZNAME:EDT
END:DAYLIGHT
END:VTIMEZONE
END:VCALENDAR