BEGIN:VCALENDAR
VERSION:2.0
PRODID:-//wp-events-plugin.com//7.2.3.1//EN
TZID:America/New_York
X-WR-TIMEZONE:America/New_York
BEGIN:VEVENT
UID:1125@breathemiami.us
DTSTART;TZID=America/New_York:20241123T090000
DTEND;TZID=America/New_York:20241123T210000
DTSTAMP:20241023T041455Z
URL:https://breathemiami.us/events/stress-management-practical-workshop-re
 treat-at-faena-hotel-miami-beach-2/
SUMMARY:Stress Management\, Practical Workshop & Retreat at FAENA Hotel\, M
 iami Beach
DESCRIPTION:Step into a day of transformation with our Stress Management Pr
 actical Workshop &amp\; Retreat at the prestigious FAENA Hotel in Miami Be
 ach. This one-day retreat offers a luxurious escape from the daily grind\,
  allowing participants to unwind\, recharge\, and rediscover inner balance
  in a serene\, upscale environment.\n\nDesigned to help you manage stress 
 effectively\, this workshop provides a holistic journey into self-care and
  balance. You are meant to function at your highest potential\, and we aim
  to clear the path for your body and mind to naturally rejuvenate by remov
 ing the barriers that stress creates. By easing these stressors\, your bod
 y’s natural intelligence can step in to promote healing and well-being.\
 n\nWhat to Expect: The workshop begins with a comprehensive and educationa
 l lecture on Holistic Health and the Stress Response System. This in-depth
  session spans the Spirit\, Emotion\, Mind\, and Body\, helping you unders
 tand how stress impacts all areas of your life. You’ll learn to identify
  various internal and external stressors in your environment—from enviro
 nmental toxins to emotional energy disruptors—and gain practical tools f
 or managing them effectively.\n\nAttendees will dive deep into understandi
 ng the root causes of stress and how they manifest physically\, emotionall
 y\, mentally\, and spiritually. With actionable strategies\, you'll leave 
 equipped to manage these stressors\, reclaim your peace\, and thrive in al
 l areas of life.\n\nExclusive Access to FAENA’s Wellness Facilities: As 
 part of this retreat\, you’ll enjoy exclusive access to FAENA Hotel’s 
 state-of-the-art wellness amenities\, including:\n\n 	Sauna\n 	Steam Room\
 n 	Hammam\n\nThese facilities provide the perfect opportunity for detoxifi
 cation and relaxation\, amplifying the benefits of the day’s stress-reli
 ef activities.\n\nLimited Spots Available: To ensure a personalized experi
 ence\, spots for this retreat are limited. Reserve your spot now to begin 
 your journey to a more balanced\, stress-free life.\n\nFor more informatio
 n and to secure your spot\, visit Ultimate Wellness Miami Workshop.\n\nHav
 e Questions? Contact us at +1 786 390 9201 for any inquiries.\n\nDon’t m
 iss out on this opportunity to transform your stress into well-being while
  immersing yourself in the luxurious atmosphere of FAENA Hotel.\n\nGET TIC
 KETS\n
ATTACH;FMTTYPE=image/jpeg:https://breathemiami.us/wp-content/uploads/2024/
 10/Stress-Management-Practical-Workshop-Retreat-at-FAENA-Hotel-Miami-Beach
 .jpg
CATEGORIES:Wellness Events
LOCATION:Faena Hotel\, 3201 Collins Avenue Miami Beach\, Miami Beach\, Flor
 ida\, 33140\, FL\, United States
X-APPLE-STRUCTURED-LOCATION;VALUE=URI;X-ADDRESS=3201 Collins Avenue Miami B
 each\, Miami Beach\, Florida\, 33140\, FL\, United States;X-APPLE-RADIUS=1
 00;X-TITLE=Faena Hotel:geo:0,0
END:VEVENT
BEGIN:VTIMEZONE
TZID:America/New_York
X-LIC-LOCATION:America/New_York
BEGIN:STANDARD
DTSTART:20241103T010000
TZOFFSETFROM:-0400
TZOFFSETTO:-0500
TZNAME:EST
END:STANDARD
END:VTIMEZONE
END:VCALENDAR