BEGIN:VCALENDAR
VERSION:2.0
PRODID:-//wp-events-plugin.com//7.2.3.1//EN
TZID:America/New_York
X-WR-TIMEZONE:America/New_York
BEGIN:VEVENT
UID:631@breathemiami.us
DTSTART;TZID=America/New_York:20240830T200000
DTEND;TZID=America/New_York:20240830T220000
DTSTAMP:20240718T143210Z
URL:https://breathemiami.us/events/street-art-after-dark/
SUMMARY:Street Art After Dark
DESCRIPTION:Wynwood Walls invites you to the second annual Street Art After
  Dark\, a community-focused program held on the last Friday of every month
  this summer.\n\nEvent Highlights:\n\n 	Cocktails &amp\; Cuisine: Sip on e
 xpertly crafted cocktails and enjoy a variety of delectable offerings from
  local food carts.\n 	Art Under the Stars: Explore murals and sculptures a
 t the world-renowned street art museum\, beautifully illuminated by moonli
 ght.\n 	Local DJ Soundtrack: Groove to the beats of local DJs\, adding an 
 electric atmosphere to the evening.\n 	Interactive Activities: Participate
  in glow-in-the-dark graffiti classes and unleash your inner artist.\n 	Li
 ve Art Creations: Witness Miami’s emerging street artists as they create
  and unveil new masterpieces in real-time.\n\nJoin us for an unforgettable
  night where art\, music\, and community come together under the stars at 
 Wynwood Walls.\n\nGET TICKETS\n
ATTACH;FMTTYPE=image/jpeg:https://breathemiami.us/wp-content/uploads/2024/
 07/Street-Art-After-Dark.webp
CATEGORIES:Food &amp; Drink Events,Mindfulness Events,Things To Do
LOCATION:Wynwood walls miami\, 2516 NW 2nd Ave\, Miami\, Florida\, 33132\, 
 United States
X-APPLE-STRUCTURED-LOCATION;VALUE=URI;X-ADDRESS=2516 NW 2nd Ave\, Miami\, F
 lorida\, 33132\, United States;X-APPLE-RADIUS=100;X-TITLE=Wynwood walls mi
 ami:geo:0,0
END:VEVENT
BEGIN:VTIMEZONE
TZID:America/New_York
X-LIC-LOCATION:America/New_York
BEGIN:DAYLIGHT
DTSTART:20240310T030000
TZOFFSETFROM:-0500
TZOFFSETTO:-0400
TZNAME:EDT
END:DAYLIGHT
END:VTIMEZONE
END:VCALENDAR