BEGIN:VCALENDAR
VERSION:2.0
PRODID:-//wp-events-plugin.com//7.2.3.1//EN
TZID:America/New_York
X-WR-TIMEZONE:America/New_York
BEGIN:VEVENT
UID:484@breathemiami.us
DTSTART;TZID=America/New_York:20240928T000000
DTEND;TZID=America/New_York:20240929T000000
DTSTAMP:20240518T020221Z
URL:https://breathemiami.us/events/stay-fit-305-summer-sweat/
SUMMARY:STAY FIT 305: Summer Sweat
DESCRIPTION:STAY FIT 305 invites fitness enthusiasts to immerse themselves 
 in the Summer Sweat event hosted at the renowned Kimpton Surfcomber Hotel\
 , promising a morning of invigorating outdoor workouts followed by a relax
 ed poolside social\, generously sponsored by BODYARMOR.\n\nScheduled for S
 aturday\, June 8th from 8 am to 12 pm EDT\, the event unfolds against the 
 picturesque backdrop of Miami Beach\, located at 1717 Collins Avenue\, FL 
 33139\, United States.\n\nEmbark on a day of fitness and fun with our Summ
 er Sweat event itinerary featuring four exhilarating workouts led by top f
 itness professionals\n5K Fun Run with Arthur Alexander\n\n 	Time: 8:00 AM 
 - 9:00 AM\n 	Description: Run\, jog\, or walk the 5K on the South Beach Bo
 ardwalk with Arthur Alexander.\n 	Check-In: 7:45 AM\n\nYoga with Vanessa G
 oncalves\n\n 	Time: 9:00 AM - 10:00 AM\n 	Description: Flow through yoga p
 oses with powerhouse instructor Vanessa Goncalves.\n 	Check-In: 8:45 AM\n\
 nBootcamp with Mckenzie Renshaw\n\n 	Time: 10:00 AM - 11:00 AM\n 	Descript
 ion: All-levels bootcamp led by Mckenzie Renshaw with no equipment needed.
 \n 	Check-In: 9:45 AM\n\nDance with Liana Veda\n\n 	Time: 11:00 AM - 12:00
  PM\n 	Description: End the morning with high-energy dance class from inst
 ructor Liana Veda.\n 	Check-In: 10:45 AM\n\nJoin us for the Summer Sweat e
 vent\, a four-hour fitness extravaganza on Miami Beach! With just one tick
 et\, enjoy access to all four dynamic workouts\, followed by a poolside re
 treat at the Kimpton Surfcomber Hotel. Indulge in complimentary pool acces
 s\, sample treats from our partners like BODYARMOR and OWYN\, and groove t
 o the beats of our live DJ. Parking tips and essential reminders: pack you
 r yoga mat\, towel\, and swimsuit for a day of ultimate fitness and relaxa
 tion!\n\nGET TICKETS\n
ATTACH;FMTTYPE=image/jpeg:https://breathemiami.us/wp-content/uploads/2024/
 05/STAY-FIT-305_Summer-Sweat.jpg
CATEGORIES:Sports &amp; Fitness Events,Wellness Events,Yoga Events
LOCATION:Kimpton Surfcomber Hotel\, 1717 Collins Avenue Miami Beach\, Miami
 \, Florida\, 33132\, United States
X-APPLE-STRUCTURED-LOCATION;VALUE=URI;X-ADDRESS=1717 Collins Avenue Miami B
 each\, Miami\, Florida\, 33132\, United States;X-APPLE-RADIUS=100;X-TITLE=
 Kimpton Surfcomber Hotel:geo:0,0
END:VEVENT
BEGIN:VTIMEZONE
TZID:America/New_York
X-LIC-LOCATION:America/New_York
BEGIN:DAYLIGHT
DTSTART:20240310T030000
TZOFFSETFROM:-0500
TZOFFSETTO:-0400
TZNAME:EDT
END:DAYLIGHT
END:VTIMEZONE
END:VCALENDAR