BEGIN:VCALENDAR
VERSION:2.0
PRODID:-//wp-events-plugin.com//7.2.3.1//EN
TZID:America/New_York
X-WR-TIMEZONE:America/New_York
BEGIN:VEVENT
UID:326@breathemiami.us
DTSTART;TZID=America/New_York:20240113T100000
DTEND;TZID=America/New_York:20240113T114500
DTSTAMP:20240908T160024Z
URL:https://breathemiami.us/events/starting-2024-balance-yoga-sound-healin
 g-intention-setting/
SUMMARY:Starting 2024 Balance: Yoga + Sound Healing + Intention Setting
DESCRIPTION:Starting 2024 Balance\n\nJoin us for an exciting event with yog
 a\, sound healing\, intention setting and refreshments happening at CoFitn
 essBuilding.\n\nDate: Saturday\, January 13\, 2024\n\nTime: 10:00am - 11:4
 0am\n\nLocation: CoFitness Building\n\n2700 Biscayne Blvd\n\nMiami\, FL 33
 137\n\nEvent description: Go into the year with a clear level head\, open 
 heart\, and with setting good intentions through yoga by @camillaolguin an
 d a sound healing session by @lauraguirall (Divine Love Sound Healing Miam
 i). We will end the event with a journaling exercise (with refreshments an
 d snacks provided by Hideout 27) where the attendees will write a little b
 it about their intentions for the year\, connect with one another and enjo
 y our space.\n\nWhat to bring: Yoga mat\, water bottle\, a blanket/sweater
  (recommended to bring one if would like to feel warm and comfortable duri
 ng sound healing session)\n\nLimited space: Please sign up as space is lim
 ited\n\nCost: This event will be donation based\n\n(Going to Miami Diaper 
 Bank) feel free to donate what you can the day of the event anything betwe
 en\n\n $5-$30 will be highly appreciate by all the babies!\n\nItinerary:\n
 \n- 10:15-10:45am: yoga session led by Camilla\n\n- 10:45-11:30am: sound h
 ealing session led by Laura\n\n- 11:30 - 11:40am: bonus Journaling session
  - Let's set intentions for the year accompanied by refreshments (watermel
 on juice &amp\; ginger shots provided by Hideout27)\n\nDon't miss out on t
 his incredible experience that will set the tone for an amazing year ahead
 . Mark your calendars and get ready to start 2024 on the right foot!\n\nEx
 cited to enjoy this morning of reset\, recharge and renewal.\n\nLet's crea
 te a magical 2024 together!
ATTACH;FMTTYPE=image/jpeg:https://breathemiami.us/wp-content/uploads/2024/
 01/Minimal-Yoga-Flyer-2160-x-1080-px.png
CATEGORIES:Mindfulness Events,Wellness Events,Yoga Events
LOCATION:CoFitness Building\, 2700 Biscayne Blvd\, Miami\, FL\, 33138\, Uni
 ted States
X-APPLE-STRUCTURED-LOCATION;VALUE=URI;X-ADDRESS=2700 Biscayne Blvd\, Miami\
 , FL\, 33138\, United States;X-APPLE-RADIUS=100;X-TITLE=CoFitness Building
 :geo:0,0
END:VEVENT
BEGIN:VTIMEZONE
TZID:America/New_York
X-LIC-LOCATION:America/New_York
BEGIN:STANDARD
DTSTART:20231105T010000
TZOFFSETFROM:-0400
TZOFFSETTO:-0500
TZNAME:EST
END:STANDARD
END:VTIMEZONE
END:VCALENDAR