BEGIN:VCALENDAR
VERSION:2.0
PRODID:-//wp-events-plugin.com//7.2.3.1//EN
TZID:America/New_York
X-WR-TIMEZONE:America/New_York
BEGIN:VEVENT
UID:1067@breathemiami.us
DTSTART;TZID=America/New_York:20241027T110000
DTEND;TZID=America/New_York:20241027T130000
DTSTAMP:20241013T094731Z
URL:https://breathemiami.us/events/spooky-succulents-halloween-market-fun-
 at-vizcaya-village/
SUMMARY:Spooky Succulents: Halloween Market Fun at Vizcaya Village
DESCRIPTION:Prepare for an enchanting experience as you create your very ow
 n mini succulent garden with a delightful Halloween twist! This engaging e
 vent invites participants of all ages—both adults and children—to unle
 ash their creativity by designing a 3-inch succulent garden that embodies 
 the spirit of the spooky season. Whether you envision a chilling haunted l
 andscape or a whimsical witch’s sanctuary\, this therapeutic activity pr
 ovides a wonderful opportunity to connect with nature’s beauty.\n\nGuide
 d by an Expert\n\nJoin Joanna from Restorative Therapeutic Horticulture fo
 r an immersive session where the focus is not only on crafting these resil
 ient plants but also on nurturing ourselves. Attendees will discover the m
 yriad wellness benefits that come from this hands-on experience\, includin
 g:\n\n 	Mindfulness: Embrace the present moment and enhance your awareness
 .\n 	Stress Reduction: Engage in a calming activity that helps lower stres
 s levels.\n 	Mood Enhancement: Experience a boost in positivity and overal
 l mood.\n 	Social Connections: Build relationships in a supportive and fri
 endly environment.\n\nAll Supplies Included\n\nParticipants will receive e
 verything they need for this creative journey: pots\, soil\, spooky succul
 ents\, and plenty of smiles! Learning to care for a plant extends beyond t
 he basics of gardening\; it empowers individuals to cultivate self-awarene
 ss and personal growth.\n\nTransform Your Wellbeing\n\nCome and discover h
 ow even the smallest succulent can significantly impact your wellbeing and
  mood. This Halloween\, let the magic of nature inspire you as you create 
 a unique garden that reflects your creativity and enhances your connection
  to the world around you.\n\nGET TICKETS\n
ATTACH;FMTTYPE=image/jpeg:https://breathemiami.us/wp-content/uploads/2024/
 10/Spooky-Succulents.jpg
CATEGORIES:Things To Do
LOCATION:Vizcaya Village\, 3250 S Miami Ave \, Miami\, Florida\, 33129\, FL
 \, United States
X-APPLE-STRUCTURED-LOCATION;VALUE=URI;X-ADDRESS=3250 S Miami Ave \, Miami\,
  Florida\, 33129\, FL\, United States;X-APPLE-RADIUS=100;X-TITLE=Vizcaya V
 illage:geo:0,0
END:VEVENT
BEGIN:VTIMEZONE
TZID:America/New_York
X-LIC-LOCATION:America/New_York
BEGIN:DAYLIGHT
DTSTART:20240310T030000
TZOFFSETFROM:-0500
TZOFFSETTO:-0400
TZNAME:EDT
END:DAYLIGHT
END:VTIMEZONE
END:VCALENDAR