BEGIN:VCALENDAR
VERSION:2.0
PRODID:-//wp-events-plugin.com//7.2.3.1//EN
TZID:America/New_York
X-WR-TIMEZONE:America/New_York
BEGIN:VEVENT
UID:849@breathemiami.us
DTSTART;TZID=America/New_York:20241026T100000
DTEND;TZID=America/New_York:20241027T170000
DTSTAMP:20240910T105742Z
URL:https://breathemiami.us/events/spooky-fan-2024-comic-books-collectible
 s-show/
SUMMARY:Spooky Fan 2024: Comic Books & Collectibles Show
DESCRIPTION:Step into the thrilling world of Spooky Fan 2024\, where the re
 alms of comic books\, collectibles\, and Halloween come together for an un
 forgettable celebration. This family-friendly event invites fans of all ag
 es to dive into a realm where comics and spooky fun collide.\n\nEvent High
 lights:\n\n 	Eerie Exhibits: Explore a range of spooky and intriguing exhi
 bits that celebrate the best of comic culture.\n 	Meet &amp\; Greet: Encou
 nter your favorite heroes and villains\, all in their iconic costumes.\n 	
 Panels &amp\; Discussions: Engage in thrilling panels with industry inside
 rs and creators.\n 	Trick or Treating: Enjoy Halloween-themed trick-or-tre
 ating throughout the event.\n 	Costume Contest: Show off your most creativ
 e costume and compete for exciting prizes.\n 	Giveaways &amp\; Treats: Par
 ticipate in giveaways and indulge in a variety of delicious treats.\n 	Art
 s &amp\; Crafts: Get hands-on with arts and crafts activities perfect for 
 all ages.\n 	Celebrity Guests: Meet special guests\, get autographs\, and 
 capture memorable photos.\n 	Food &amp\; Beverages: Savor a range of food 
 options from our diverse vendors.\n\nPrepare for a spine-tingling experien
 ce filled with magical moments\, captivating collectibles\, and festive fu
 n. Dress in your best costume and join us for a Halloween extravaganza tha
 t promises to be a ghoulishly good time!\n\nGET TICKETS\n
ATTACH;FMTTYPE=image/jpeg:https://breathemiami.us/wp-content/uploads/2024/
 09/Spooky-Fan-2024-Comic-Books-Collectibles-Show.jpg
CATEGORIES:Things To Do
LOCATION:AC Hotel Miami Dadeland\, 7695 North Kendall Drive Miami\, Miami\,
  Florida\, 33156\, FL\, United States
X-APPLE-STRUCTURED-LOCATION;VALUE=URI;X-ADDRESS=7695 North Kendall Drive Mi
 ami\, Miami\, Florida\, 33156\, FL\, United States;X-APPLE-RADIUS=100;X-TI
 TLE=AC Hotel Miami Dadeland:geo:0,0
END:VEVENT
BEGIN:VTIMEZONE
TZID:America/New_York
X-LIC-LOCATION:America/New_York
BEGIN:DAYLIGHT
DTSTART:20240310T030000
TZOFFSETFROM:-0500
TZOFFSETTO:-0400
TZNAME:EDT
END:DAYLIGHT
END:VTIMEZONE
END:VCALENDAR