BEGIN:VCALENDAR
VERSION:2.0
PRODID:-//wp-events-plugin.com//7.2.3.1//EN
TZID:America/New_York
X-WR-TIMEZONE:America/New_York
BEGIN:VEVENT
UID:689@breathemiami.us
DTSTART;TZID=America/New_York:20240816T140000
DTEND;TZID=America/New_York:20240818T210000
DTSTAMP:20240805T170531Z
URL:https://breathemiami.us/events/spirit-of-japan-miami-beach/
SUMMARY:Spirit of Japan Miami Beach
DESCRIPTION:The "Spirit of Japan" event\, brought to you by Japan Taste Mar
 ket (JTM) in collaboration with Japan Market and Xpress Skins Inc.\, is a 
 vibrant cultural celebration dedicated to bringing the essence of Japan to
  the USA. This immersive festival offers attendees a rich tapestry of Japa
 nese food\, drinks\, cultural performances\, concerts\, parties\, cosplay 
 events\, and special guest appearances\, creating an authentic and engagin
 g experience.\n\nSpecial Guests:\n\n 	Ryo Horikawa: The voice behind Veget
 a in Dragon Ball\, will be signing autographs in person on Sunday.\n 	Hiro
 aki Hirata: Known for voicing Sanji in One Piece\, will be available for i
 n-person signings on Saturday.\n 	Yuki Kaji: The voice of Eren Yeager in A
 ttack on Titan\, will participate in a virtual Q&amp\;A on the main stage.
 \n 	Sayaka Ohara: Renowned for voicing Erza Scarlet in Fairy Tail\, will b
 e signing autographs in person on Sunday.\n 	Satomi Akesaka: The voice of 
 Esdeath in Akame Ga Kill!\, will be signing autographs in person on Saturd
 ay.\n\nThis festival aims to build a bridge between Japan and America\, fo
 stering connections and understanding between communities. Whether you're 
 an avid fan of Japanese culture or simply curious\, the Spirit of Japan Fe
 stival promises an array of new discoveries.\n\nWhat You Can Experience:\n
 \n 	Culinary Delights: Savor a variety of traditional Japanese dishes\, of
 fering a true taste of Japan.\n 	Cultural Exhibits: Explore exhibits showc
 asing Japanese arts\, crafts\, and cultural practices.\n 	Anime and Manga 
 Hub: Immerse yourself in the world of anime and manga with screenings\, pa
 nel discussions\, and special guest appearances.\n 	Interactive Workshops:
  Engage in hands-on workshops such as calligraphy and origami\, allowing y
 ou to experience Japanese artistry firsthand.\n\nJoin the Spirit of Japan 
 Festival at Miami Beach to celebrate the vibrant spirit and charm of Japan
 ese culture. Dive into the tastes\, sights\, and sounds of Japan\, and let
  this festival transport you to the heart of Japanese tradition and innova
 tion. Discover the allure and mystery of Japan with a community of like-mi
 nded enthusiasts and curious newcomers.\n\nGET TICKETS\n
ATTACH;FMTTYPE=image/jpeg:https://breathemiami.us/wp-content/uploads/2024/
 08/Spirit-of-Japan-Miami-Beach.jpg
CATEGORIES:Food &amp; Drink Events,Things To Do,Wellness Events
LOCATION:1901 Convention Ctr Dr\, 1901 Convention Center Drive Miami Beach\
 , Miami\, Florida\, 33139\,  FL \, United States
X-APPLE-STRUCTURED-LOCATION;VALUE=URI;X-ADDRESS=1901 Convention Center Driv
 e Miami Beach\, Miami\, Florida\, 33139\,  FL \, United States;X-APPLE-RAD
 IUS=100;X-TITLE=1901 Convention Ctr Dr:geo:0,0
END:VEVENT
BEGIN:VTIMEZONE
TZID:America/New_York
X-LIC-LOCATION:America/New_York
BEGIN:DAYLIGHT
DTSTART:20240310T030000
TZOFFSETFROM:-0500
TZOFFSETTO:-0400
TZNAME:EDT
END:DAYLIGHT
END:VTIMEZONE
END:VCALENDAR