BEGIN:VCALENDAR
VERSION:2.0
PRODID:-//wp-events-plugin.com//7.2.3.1//EN
TZID:America/New_York
X-WR-TIMEZONE:America/New_York
BEGIN:VEVENT
UID:1281@breathemiami.us
DTSTART;TZID=America/New_York;VALUE=DATE:20250310
DTEND;TZID=America/New_York;VALUE=DATE:20250311
DTSTAMP:20250218T105555Z
URL:https://breathemiami.us/events/spa-soul-half-day-retreat-4/
SUMMARY:Spa & Soul Half-Day Retreat
DESCRIPTION:Designed to offer an unparalleled escape into tranquility\, the
  Serenity Half-Day Revive experience presents a holistic journey of relaxa
 tion and self-discovery. Crafted with precision to cater to individual wel
 lness needs\, this exclusive retreat rejuvenates the senses while fosterin
 g a deeper connection with one’s inner self\, all within the opulent set
 ting of a world-class spa facility.\n\nA Bespoke Wellness Journey\nThis me
 ticulously curated package features a luxurious 90-minute spa service tail
 ored to personal preferences\, accompanied by an array of immersive experi
 ences that nurture physical\, emotional\, and spiritual well-being. Guests
  will embark on a rejuvenating retreat designed to revitalize the body\, c
 alm the mind\, and restore inner balance.\nHighlights of the Serenity Half
 -Day Revive Experience:\n\n 	90-Minute Customized Luxury Spa Service: Gues
 ts will indulge in a personalized treatment expertly designed to address t
 heir unique wellness needs. Whether targeting deep relaxation or revitaliz
 ation\, this bespoke service ensures an unmatched experience that soothes 
 the mind\, body\, and soul.\n 	Gourmet Lunch Experience: A carefully curat
 ed menu featuring fresh\, locally sourced ingredients awaits\, offering a 
 culinary journey that nourishes both the body and the palate. Each dish is
  crafted to promote vitality and enhance overall well-being.\n 	Personaliz
 ed Soul-Enriching Wellness Session: Participants can reconnect with their 
 inner essence through transformative wellness modalities. Options include 
 regression hypnotherapy\, sound healing\, private yoga sessions\, and othe
 r restorative experiences facilitated by expert practitioners from Best Li
 fe-ing.\n 	Full-Day Spa Access: Beyond the scheduled sessions\, guests can
  fully immerse themselves in the luxurious amenities of the Carillon Miami
  Wellness Resort\, enjoying a full day of relaxation and rejuvenation. Thi
 s provides an opportunity to embrace serenity at their own pace\, utilizin
 g top-tier spa facilities to complement their wellness journey.\n\nSpa Ser
 vice Options:\n\n 	Massage\n 	Body Treatment\n 	Facial (Exclusions: Deep T
 issue\, Indiba\, Non-Surgical Facial)\n\nBest Life-ing Wellness Modalities
 :\n\n 	Hypnotherapy\n 	Sound Healing\n 	Private Yoga (Kundalini\, Deep Str
 etch\, Yin &amp\; more)\n 	Conscious Breathwork\n 	Guided Meditation\n 	Re
 iki Energy Healing\n 	Acupuncture\n 	Cupping (optional add-on)\n\nA Five-H
 our Immersive Wellness Retreat\nThis five-hour holistic experience is desi
 gned to provide an escape from the pressures of daily life while unlocking
  the potential for deep relaxation and renewal. With full-day access to sp
 a amenities\, guests can extend their rejuvenation beyond the scheduled tr
 eatments\, making the most of this luxurious retreat.\n\n\n\n\n\nAbout the
  Location: Carillon Miami Wellness Resort 🌴\nNestled in the heart of Mi
 ami Beach\, the Carillon Miami Wellness Resort stands as a premier wellnes
 s sanctuary\, offering a harmonious blend of luxury\, relaxation\, and hol
 istic well-being. With state-of-the-art spa facilities\, rejuvenating hydr
 otherapy circuits\, and gourmet healthy dining options\, the resort provid
 es a tranquil environment for personal renewal. Spectacular ocean views an
 d a commitment to excellence make it an ideal setting for a transformative
  wellness escape.\n\n\n\n\n\nAbout Best Life-ing 🌟\nBest Life-ing is de
 dicated to empowering individuals through holistic wellness experiences. W
 ith a team of expert healers and practitioners\, Best Life-ing offers a di
 verse range of services—including retreats\, workshops\, and private ses
 sions—focused on personal growth\, healing\, and self-discovery. The org
 anization emphasizes the power of community and intention-setting as catal
 ysts for positive transformation\, ensuring every experience fosters lasti
 ng well-being.\n\nJoin this extraordinary retreat and allow the fusion of 
 custom treatments\, expert wellness services\, and world-class spa ameniti
 es to elevate your physical\, emotional\, and spiritual health. Reserve yo
 ur spot today and step into a realm of serenity and renewal.\n\n&nbsp\;\n\
 nGET TICKETS\n
ATTACH;FMTTYPE=image/jpeg:https://breathemiami.us/wp-content/uploads/2025/
 02/Spa-Soul-Half-Day-Retreat.avif
CATEGORIES:Featured Events,Wellness Events
LOCATION:Carillon Miami Wellness Resort\, 6801 Collins Avenue Miami Beach\,
 \, Miami Beach\,\, United States\,  33141\, United States
X-APPLE-STRUCTURED-LOCATION;VALUE=URI;X-ADDRESS=6801 Collins Avenue Miami B
 each\,\, Miami Beach\,\, United States\,  33141\, United States;X-APPLE-RA
 DIUS=100;X-TITLE=Carillon Miami Wellness Resort:geo:0,0
END:VEVENT
BEGIN:VTIMEZONE
TZID:America/New_York
X-LIC-LOCATION:America/New_York
BEGIN:DAYLIGHT
DTSTART:20250309T030000
TZOFFSETFROM:-0500
TZOFFSETTO:-0400
TZNAME:EDT
END:DAYLIGHT
END:VTIMEZONE
END:VCALENDAR