BEGIN:VCALENDAR
VERSION:2.0
PRODID:-//wp-events-plugin.com//7.2.3.1//EN
TZID:America/New_York
X-WR-TIMEZONE:America/New_York
BEGIN:VEVENT
UID:1280@breathemiami.us
DTSTART;TZID=America/New_York:20250207T070000
DTEND;TZID=America/New_York:20250207T090000
DTSTAMP:20250218T064846Z
URL:https://breathemiami.us/events/spa-soul-full-day-retreat-5/
SUMMARY:Spa & Soul Full Day Retreat
DESCRIPTION:Immerse yourself in a rejuvenating full-day retreat designed to
  restore balance\, clarity\, and inner peace. The Oasis Full-Day Renewal e
 xperience is a thoughtfully curated journey that harmonizes luxury\, heali
 ng\, and personal transformation. This all-inclusive wellness retreat\, ho
 sted by Omni La Costa and Best Life-ing\, offers an unparalleled opportuni
 ty for relaxation and self-discovery.\nTailored to meet individual needs\,
  this retreat blends holistic healing modalities\, spa indulgence\, and ex
 pert life coaching to create a deeply enriching experience. Guests will en
 joy two opulent 50-minute spa treatments\, nourishing gourmet cuisine\, an
 d the freedom to customize their healing journey by selecting two personal
 ized wellness sessions from an exclusive menu of therapeutic practices.\nC
 onclude this soul-enriching day with a moment of quiet reflection\, sippin
 g champagne or tea in the serene spa lounge—fully refreshed and empowere
 d to embrace life with renewed energy.\n\n\n\n\nWhat to Expect from Your W
 ellness Journey\n✔ Luxury Spa Treatments – Enjoy two 50-minute spa ses
 sions designed to promote deep relaxation and holistic well-being. Choose 
 from a selection of expertly crafted treatments tailored to your unique ne
 eds. (Excludes Deep Tissue\, Indiba\, and Non-Surgical Facials.)\n✔ Gour
 met Wellness Cuisine – Relish a nutritious and flavorful culinary experi
 ence crafted to enhance your vitality and promote whole-body wellness.\n
 ✔ Personalized Healing Modalities – Select two powerful wellness thera
 pies from our extensive list of healing experiences\, including:\n\n\n 	Hy
 pnotherapy (including regression hypnotherapy for deep emotional healing)\
 n 	Sound Healing (using vibrational therapy to restore balance)\n 	Private
  Yoga (customized sessions in Kundalini\, Deep Stretch\, Yin\, and more)\n
  	Conscious Breathwork (techniques to release stress and cultivate clarity
 )\n 	Guided Meditation (mindfulness practices to enhance self-awareness)\n
  	Reiki Energy Healing (gentle yet powerful energy balancing)\n 	Acupunctu
 re (ancient healing to improve energy flow)\n 	Cupping Therapy (available 
 as an optional add-on)\n\n✔ Full-Day Spa Access – Bask in the tranquil
 ity of state-of-the-art spa facilities\, designed to support relaxation an
 d renewal. Experience an array of hydrotherapy options\, luxurious lounges
 \, and wellness-enhancing amenities throughout the day.\n✔ An Unforgetta
 ble Wellness Escape – From 8:30 AM to 6:00 PM\, immerse yourself in a da
 y of self-care\, leaving you feeling revitalized\, centered\, and prepared
  to embrace a more fulfilling\, balanced life.\n\n\n\n\nThe Location: Cari
 llon Miami Wellness Resort 🌴\nNestled in the heart of Miami Beach\, the
  Carillon Miami Wellness Resort is an award-winning wellness destination k
 nown for its oceanfront serenity\, world-class spa facilities\, and holist
 ic wellness programs. Guests can enjoy a comprehensive range of healing tr
 eatments\, cutting-edge hydrotherapy experiences\, and gourmet healthy din
 ing—all designed to nurture body\, mind\, and soul. With breathtaking vi
 ews of the Atlantic Ocean and a peaceful\, rejuvenating atmosphere\, Caril
 lon Miami is the perfect sanctuary for a life-changing wellness retreat.\n
 \n\n\n\nAbout Best Life-ing 🌟\nBest Life-ing is a premier wellness and 
 personal development company dedicated to guiding individuals toward holis
 tic transformation and self-empowerment. Through immersive retreats\, inte
 ractive workshops\, and private healing sessions\, our expert team of well
 ness practitioners helps guests achieve personal growth\, emotional balanc
 e\, and renewed purpose. Rooted in the belief that intention-setting and c
 ommunity support drive meaningful change\, Best Life-ing is committed to d
 elivering high-quality\, life-enhancing experiences for those seeking to e
 mbrace their fullest potential.\n\n\n\n\nStep into Renewal\, Step into You
 r Best Life\nLet go of stress\, reconnect with your authentic self\, and e
 merge refreshed\, empowered\, and ready to embrace life’s possibilities.
  Secure your spot today for the Oasis Full-Day Renewal Retreat\, and take 
 a transformative step toward holistic well-being.
ATTACH;FMTTYPE=image/jpeg:https://breathemiami.us/wp-content/uploads/2025/
 02/Spa-Soul-Full-Day-Retreat.avif
CATEGORIES:Featured Events,Wellness Events
LOCATION:Carillon Miami Wellness Resort\, 6801 Collins Avenue Miami Beach\,
 \, Miami Beach\,\, United States\,  33141\, United States
X-APPLE-STRUCTURED-LOCATION;VALUE=URI;X-ADDRESS=6801 Collins Avenue Miami B
 each\,\, Miami Beach\,\, United States\,  33141\, United States;X-APPLE-RA
 DIUS=100;X-TITLE=Carillon Miami Wellness Resort:geo:0,0
END:VEVENT
BEGIN:VTIMEZONE
TZID:America/New_York
X-LIC-LOCATION:America/New_York
BEGIN:STANDARD
DTSTART:20241103T010000
TZOFFSETFROM:-0400
TZOFFSETTO:-0500
TZNAME:EST
END:STANDARD
END:VTIMEZONE
END:VCALENDAR