BEGIN:VCALENDAR
VERSION:2.0
PRODID:-//wp-events-plugin.com//7.2.3.1//EN
TZID:America/New_York
X-WR-TIMEZONE:America/New_York
BEGIN:VEVENT
UID:1011@breathemiami.us
DTSTART;TZID=America/New_York:20241103T150000
DTEND;TZID=America/New_York:20241103T160000
DTSTAMP:20241006T153838Z
URL:https://breathemiami.us/events/sound-room-sundays-2/
SUMMARY:Sound Room Sundays
DESCRIPTION:Each Sunday\, immerse yourself in a tranquil escape within the 
 exclusive Sound Room\, curated by Nazary &amp\; Espiritusanto. This intima
 te event\, limited to just 6 participants\, offers a deeply personalized s
 ound healing and meditation experience designed to revitalize your spirit 
 and promote holistic well-being.\n\nIn this serene setting\, participants 
 are guided through transformative meditations and soundscapes\, carefully 
 crafted to align body and mind. The combination of soothing sounds and pea
 ceful vibrations fosters a sense of inner calm and clarity\, making each s
 ession a powerful journey toward emotional and spiritual renewal.\n\nThe l
 imited number of attendees ensures that each participant enjoys a profound
  and focused healing session\, where individual needs and energetic balanc
 e are prioritized. The intimate nature of the event allows for a deeper co
 nnection with the healing frequencies\, offering a unique and personalized
  experience of relaxation\, reflection\, and rejuvenation.\n\nHighlights:\
 n\nExclusive small group: With only 6 participants per session\, the atmos
 phere is private and calming\, allowing for a more meaningful healing expe
 rience.\nGuided meditations: Expertly led meditations help prepare both bo
 dy and mind to fully absorb the healing vibrations.\nTransformative sounds
 capes: The harmonious sounds created within the Sound Room promote deep re
 laxation and spiritual awakening\, leaving you centered and restored.\nSer
 ene environment: The Sound Room provides an oasis of peace\, where the str
 esses of the outside world melt away\, giving you space to connect with yo
 ur inner self.\nBenefits:\n\nDeep relaxation: Release stress and tension\,
  allowing the mind to enter a state of calm and clarity.\nEnergy alignment
 : The healing sounds help balance and align your energy\, fostering overal
 l well-being.\nEmotional healing: This experience supports emotional relea
 se\, promoting peace and inner harmony.\nSpiritual renewal: The meditative
  soundscapes create space for spiritual growth\, helping you connect more 
 deeply with your inner self.\nSecure your spot in this sacred\, limited-ca
 pacity event and treat yourself to a Sunday dedicated to relaxation\, inne
 r peace\, and revitalization.\n\nGET TICKETS\n
ATTACH;FMTTYPE=image/jpeg:https://breathemiami.us/wp-content/uploads/2024/
 10/Sound-Room-Sundays.jpg
CATEGORIES:Wellness Events
LOCATION:5040 NE 2nd Ave\, 5040 Northeast 2nd Avenue Miami\, Miami\, Florid
 a\, 33137\, FL\, United States
X-APPLE-STRUCTURED-LOCATION;VALUE=URI;X-ADDRESS=5040 Northeast 2nd Avenue M
 iami\, Miami\, Florida\, 33137\, FL\, United States;X-APPLE-RADIUS=100;X-T
 ITLE=5040 NE 2nd Ave:geo:0,0
END:VEVENT
BEGIN:VTIMEZONE
TZID:America/New_York
X-LIC-LOCATION:America/New_York
BEGIN:STANDARD
DTSTART:20241103T010000
TZOFFSETFROM:-0400
TZOFFSETTO:-0500
TZNAME:EST
END:STANDARD
END:VTIMEZONE
END:VCALENDAR