BEGIN:VCALENDAR
VERSION:2.0
PRODID:-//wp-events-plugin.com//7.2.3.1//EN
TZID:America/New_York
X-WR-TIMEZONE:America/New_York
BEGIN:VEVENT
UID:201@breathemiami.us
DTSTART;TZID=America/New_York:20231205T193000
DTEND;TZID=America/New_York:20231205T210000
DTSTAMP:20240218T002110Z
URL:https://breathemiami.us/events/sound-journey-with-andrea-mihalik-in-mi
 ami/
SUMMARY:Sound Journey with Andrea Mihalik
DESCRIPTION:Event Information:\n\nEmbark on a transformative odyssey as you
  immerse yourself in a 60-minute cleansing sound journey led by the captiv
 ating Andrea Mihalik. This soul-enriching experience is crafted to guide y
 ou into an exploration of your inner self. Through the resonating vibratio
 ns of crystal sound bowls and drums\, Andrea's artistry creates a sacred s
 pace for self-discovery\, healing\, and connection. Join this immersive jo
 urney\, allowing the harmonious sounds to carry you into the depths of you
 r being\, fostering a profound exploration of your true essence.\n\nDate a
 nd Time: December 5 · 7:30 - 9pm EST\n\nAbout this event:\n\n 	Immerse y
 ourself in a 60-minute cleansing sound journey with Andrea Mihalik\, an ex
 ploration of self through intentional ceremonies and sessions.\n 	Curated 
 experiences offer opportunities to connect with love\, gratitude\, inspira
 tion\, embrace authenticity\, and explore shadows\, deepening our connecti
 on to intuition and remembering our true essence.\n 	Sound Journey &amp\; 
 Smudging Ceremony with Andrea\, featuring crystal sound bowls and drums\, 
 invites participants to set intentions\, share in the circle\, and embark 
 on a soulful exploration.\n\nDuration: 1 hour\n\nTicket Information:\n\n 	
 Ticket Type: Mobile eTicket\n 	Refund Policy: No Refunds\n\n\nGET TICKETS\
 n\n\nWorkout Session Details:\n\n 	Facilitator: Andrea Mihalik\, the creat
 ive force behind the brand VIBRANSÈ\, inspiring creativity\, authenticity
 \, and self-discovery.\n 	Location: The Modern ŌM Bungalow\, the clubhous
 e for Miami’s mindful community\n\nEssentials to Bring:\n\n 	Yoga mat\n 
 	Comfortable clothing\n 	Refillable water bottle\n 	Open heart\n\nParking 
 Options:\n\n 	Metered parking alongside the streets of Upper Buena Vista o
 n NE 2nd Avenue and NE 50th Terrace. Do NOT park in residential zones - th
 ey do tow.\n
ATTACH;FMTTYPE=image/jpeg:https://breathemiami.us/wp-content/uploads/2023/
 12/https___cdn.evbuc_.com_images_623470829_1145507310493_1_original.jpg
CATEGORIES:Wellness Events
LOCATION:Modern ŌM Bungalow\, 3201 Collins Avenue Miami Beach\, Miami Beac
 h\, FL\, 33140\, United States
X-APPLE-STRUCTURED-LOCATION;VALUE=URI;X-ADDRESS=3201 Collins Avenue Miami B
 each\, Miami Beach\, FL\, 33140\, United States;X-APPLE-RADIUS=100;X-TITLE
 =Modern ŌM Bungalow:geo:0,0
END:VEVENT
BEGIN:VTIMEZONE
TZID:America/New_York
X-LIC-LOCATION:America/New_York
BEGIN:STANDARD
DTSTART:20231105T010000
TZOFFSETFROM:-0400
TZOFFSETTO:-0500
TZNAME:EST
END:STANDARD
END:VTIMEZONE
END:VCALENDAR