BEGIN:VCALENDAR
VERSION:2.0
PRODID:-//wp-events-plugin.com//7.2.3.1//EN
TZID:America/New_York
X-WR-TIMEZONE:America/New_York
BEGIN:VEVENT
UID:564@breathemiami.us
DTSTART;TZID=America/New_York:20240719T190000
DTEND;TZID=America/New_York:20240721T170000
DTSTAMP:20240701T224149Z
URL:https://breathemiami.us/events/sound-healing-training-with-jared-bistr
 ong/
SUMMARY:SOUND HEALING TRAINING with Jared Bistrong
DESCRIPTION:Embark on a transformative journey into the world of sound heal
 ing with Jared Bistrong of the Miami Sound Institute. This immersive weeke
 nd course\, designed as Level 1 of the program\, offers a profound explora
 tion of sound therapy techniques and instruments that will empower partici
 pants to harness the healing power of sound.\n\nCourse Overview:\n\nIn Lev
 el 1\, participants will delve into both the art and science of sound heal
 ing\, gaining a comprehensive understanding of various sound healing modal
 ities and instruments. Led by expert practitioner Jared Bistrong\, student
 s will explore instruments such as drums\, percussion\, Didgeridoo\, Tibet
 an Singing Bowls\, Crystal Singing Bowls\, Gongs\, flutes\, and more. Each
  session is designed to provide a solid foundation for integrating sound h
 ealing into personal meditation practices and facilitating small group ses
 sions.\n\nWhat You Will Learn:\n\n 	History &amp\; Science of Sound Therap
 y: Explore the origins and scientific principles underlying sound therapy 
 and vibrational healing.\n 	Sound Healing Techniques: Learn practical tech
 niques for using Tibetan Bowls\, Didgeridoo\, crystal bowls\, gongs\, drum
 s\, chimes\, vocal toning\, and more in therapeutic settings.\n 	Intention
  Setting: Understand the significance of intention in sound healing and ho
 w it influences the healing process.\n 	Creating Sacred Space: Gain insigh
 ts into creating and maintaining a supportive environment conducive to sou
 nd healing sessions.\n 	Breath and Movement: Discover the role of breath a
 nd movement in enhancing the efficacy of sound healing practices.\n 	Pract
 ical Application: Develop a customized sound healing model that can be tai
 lored for self-care\, group sessions\, and private healing sessions.\n\nWh
 o Can Benefit:\n\n 	Self-Care Enthusiasts: Individuals seeking tools for p
 ersonal growth\, relaxation\, and stress relief through sound therapy.\n 	
 Healthcare Professionals: Doctors\, nurses\, massage therapists\, and othe
 r healthcare practitioners interested in integrating complementary therapi
 es into their practices.\n 	Sound Healing Practitioners: Both beginners an
 d experienced practitioners looking to expand their repertoire of instrume
 nts and techniques.\n 	Musicians and Educators: Musicians interested in th
 erapeutic applications of sound\, as well as educators looking to incorpor
 ate sound healing into their teaching practices.\n 	Mindful Individuals: A
 nyone interested in mindfulness practices and holistic wellness approaches
 .\n\nUpon completion of Level 1\, participants will have gained practical 
 experience with a variety of sound healing instruments and techniques\, pr
 eparing them to apply their newfound knowledge in personal or professional
  settings. This foundational course sets the stage for continued explorati
 on and growth in the field of sound healing.\n\nJoin Jared Bistrong and im
 merse yourself in a weekend of profound sound exploration. Discover the tr
 ansformative potential of sound healing and embark on a journey toward enh
 anced well-being and spiritual growth.\n\nGET TICKETS\n
ATTACH;FMTTYPE=image/jpeg:https://breathemiami.us/wp-content/uploads/2024/
 06/SOUND-HEALING-TRAINING-with-Jared-Bistrong.jpg
CATEGORIES:Featured Events,Mindfulness Events,Wellness Events
LOCATION:Tantra Studios\, 390 Northeast 59th Terrace Miami\, Miami Beach\, 
 Florida\, 33137 \,  FL \, United States
X-APPLE-STRUCTURED-LOCATION;VALUE=URI;X-ADDRESS=390 Northeast 59th Terrace 
 Miami\, Miami Beach\, Florida\, 33137 \,  FL \, United States;X-APPLE-RADI
 US=100;X-TITLE=Tantra Studios:geo:0,0
END:VEVENT
BEGIN:VTIMEZONE
TZID:America/New_York
X-LIC-LOCATION:America/New_York
BEGIN:DAYLIGHT
DTSTART:20240310T030000
TZOFFSETFROM:-0500
TZOFFSETTO:-0400
TZNAME:EDT
END:DAYLIGHT
END:VTIMEZONE
END:VCALENDAR