BEGIN:VCALENDAR
VERSION:2.0
PRODID:-//wp-events-plugin.com//7.2.3.1//EN
TZID:America/New_York
X-WR-TIMEZONE:America/New_York
BEGIN:VEVENT
UID:537@breathemiami.us
DTSTART;TZID=America/New_York:20240627T190000
DTEND;TZID=America/New_York:20240627T210000
DTSTAMP:20240609T023634Z
URL:https://breathemiami.us/events/sound-healing-odyssey-with-jared-bistro
 ng/
SUMMARY:SOUND HEALING ODYSSEY with Jared Bistrong
DESCRIPTION:Join Jared Bistrong for an intimate and transformative evening 
 filled with movement\, breathwork\, tribal drumming\, and dance. This uniq
 ue event\, titled "Sound Healing Odyssey\," promises a profound journey th
 rough sound and sensory immersion.\nImmersive Multi-Sensory Experience\nPa
 rticipants will be guided through an immersive experience featuring the ri
 ch\, resonant tones of the didgeridoo\, gong\, handpan\, flute\, and singi
 ng bowls. Each instrument brings its own healing frequency\, creating a sy
 mphony of vibrations that wash over and through the body.\nHealing Through
  Sound and Movement\nJared Bistrong expertly combines movement and breathw
 ork with the power of tribal rhythms and melodic soundscapes. This holisti
 c approach not only enhances physical relaxation but also deepens mental a
 nd emotional clarity.\nFeel Refreshed\, Centered\, and Blissfully Present\
 nThe evening's journey will leave participants feeling refreshed\, centere
 d\, and blissfully present. The powerful combination of sound healing and 
 mindful movement creates a space for profound personal reflection and reju
 venation.\nAn Invitation to Inner Harmony\nThis Sound Healing Odyssey is m
 ore than just an event\; it is an invitation to explore inner harmony and 
 well-being. Whether you seek to relieve stress\, find inner peace\, or sim
 ply enjoy a unique sensory experience\, this evening with Jared Bistrong w
 ill provide the tools and environment for deep healing and connection.\n\n
 Embrace this opportunity to connect with yourself and others in a serene a
 nd supportive setting. Join us for a night of transformative sound and mov
 ement that will leave you feeling revitalized and balanced.\n\nGET TICKETS
 \n
ATTACH;FMTTYPE=image/jpeg:https://breathemiami.us/wp-content/uploads/2024/
 06/SOUND-HEALING-ODYSSEY-with-Jared-Bistrong.jpg
CATEGORIES:Mindfulness Events,Wellness Events
LOCATION:Tantra Studios\, 390 Northeast 59th Terrace Miami\, Miami Beach\, 
 Florida\, 33137 \,  FL \, United States
X-APPLE-STRUCTURED-LOCATION;VALUE=URI;X-ADDRESS=390 Northeast 59th Terrace 
 Miami\, Miami Beach\, Florida\, 33137 \,  FL \, United States;X-APPLE-RADI
 US=100;X-TITLE=Tantra Studios:geo:0,0
END:VEVENT
BEGIN:VTIMEZONE
TZID:America/New_York
X-LIC-LOCATION:America/New_York
BEGIN:DAYLIGHT
DTSTART:20240310T030000
TZOFFSETFROM:-0500
TZOFFSETTO:-0400
TZNAME:EDT
END:DAYLIGHT
END:VTIMEZONE
END:VCALENDAR