BEGIN:VCALENDAR
VERSION:2.0
PRODID:-//wp-events-plugin.com//7.2.3.1//EN
TZID:America/New_York
X-WR-TIMEZONE:America/New_York
BEGIN:VEVENT
UID:558@breathemiami.us
DTSTART;TZID=America/New_York:20240703T193000
DTEND;TZID=America/New_York:20240703T203000
DTSTAMP:20240623T181132Z
URL:https://breathemiami.us/events/sound-healing-in-edgewater-miami/
SUMMARY:Sound Healing in Edgewater Miami | Mid-Week Reset
DESCRIPTION:Experience a rejuvenating evening of sound healing at Cofitness
  in Edgewater\, Miami. This mid-week reset is designed to help you find ba
 lance\, harmony\, and peace amidst the busyness of your week. Let soothing
  sound frequencies renew and rebalance your mental\, emotional\, and physi
 cal well-being.\n\nEvent Highlights:\n\nSoothing Sound Frequencies: Immers
 e yourself in the healing vibrations of sound therapy.\n\nHolistic Benefit
 s:\n\n 	\n\n 	Reduce Stress: Alleviate anxiety and find mental peace.\n 	I
 mprove Focus: Enhance concentration and mental clarity.\n 	Balance Emotion
 s: Support emotional healing and stability.\n 	Enhance Mood: Lift your spi
 rits and foster a positive outlook.\n 	Relax Physically: Ease muscle tensi
 on and promote deep relaxation.\n 	Sleep Better: Improve sleep patterns an
 d quality.\n\n\n\nWho Should Attend:\n\n 	Working Professionals: Recharge 
 from job stress and break the monotony.\n 	Tech Professionals: Restore bal
 ance\, enhance focus\, and boost creativity.\n 	Students: Manage academic 
 pressure and improve concentration.\n 	Stay-at-Home Parents: Find calm ami
 dst busy routines.\n 	Elderly Individuals: Enjoy gentle\, non-intrusive we
 llness practices.\n 	Wellness Enthusiasts: Explore holistic health and sel
 f-care.\n 	Anyone Seeking Wellness: Open to anyone looking to improve thei
 r well-being.\n\nJoin Us: Take a mid-week break with us to reset and recha
 rge. Let the soothing sounds guide you to a place of deep relaxation and e
 motional healing. Embrace the rest of your week with renewed energy and cl
 arity. Join us for this transformative experience – your mind and body d
 eserve it! See you on the mat at Cofitness in Edgewater\, Miami.\n\nGET TI
 CKETS\n
ATTACH;FMTTYPE=image/jpeg:https://breathemiami.us/wp-content/uploads/2024/
 06/Sound-Healing-in-Edgewater-Miami-Mid-Week-Reset.jpg
CATEGORIES:Mindfulness Events,Wellness Events
LOCATION:2700 Biscayne Boulevard\, 2700 Biscayne Boulevard CoFitness Buildi
 ng/Hideout27 \, Miami\, Florida\, 33137\, United States
X-APPLE-STRUCTURED-LOCATION;VALUE=URI;X-ADDRESS=2700 Biscayne Boulevard CoF
 itness Building/Hideout27 \, Miami\, Florida\, 33137\, United States;X-APP
 LE-RADIUS=100;X-TITLE=2700 Biscayne Boulevard:geo:0,0
END:VEVENT
BEGIN:VTIMEZONE
TZID:America/New_York
X-LIC-LOCATION:America/New_York
BEGIN:DAYLIGHT
DTSTART:20240310T030000
TZOFFSETFROM:-0500
TZOFFSETTO:-0400
TZNAME:EDT
END:DAYLIGHT
END:VTIMEZONE
END:VCALENDAR